BEGIN:VCALENDAR
VERSION:2.0
PRODID:-//Ames Community Arts Council - ECPv6.15.1.1//NONSGML v1.0//EN
CALSCALE:GREGORIAN
METHOD:PUBLISH
X-WR-CALNAME:Ames Community Arts Council
X-ORIGINAL-URL:https://calendar.amesart.org
X-WR-CALDESC:Events for Ames Community Arts Council
REFRESH-INTERVAL;VALUE=DURATION:PT1H
X-Robots-Tag:noindex
X-PUBLISHED-TTL:PT1H
BEGIN:VTIMEZONE
TZID:America/Chicago
BEGIN:DAYLIGHT
TZOFFSETFROM:-0600
TZOFFSETTO:-0500
TZNAME:CDT
DTSTART:20260308T080000
END:DAYLIGHT
BEGIN:STANDARD
TZOFFSETFROM:-0500
TZOFFSETTO:-0600
TZNAME:CST
DTSTART:20261101T070000
END:STANDARD
END:VTIMEZONE
BEGIN:VEVENT
DTSTART;TZID=America/Chicago:20260201T140000
DTEND;TZID=America/Chicago:20260201T140000
DTSTAMP:20260421T111333
CREATED:20251229T175442Z
LAST-MODIFIED:20251229T175442Z
UID:10002517-1769954400-1769954400@calendar.amesart.org
SUMMARY:Beetlejuice JR.
DESCRIPTION:Story Theater Company Presents Beetlejuice JR\n\n\n\nPerforming at Ames City Auditorium January 29-February 1\, 2026\n\n\n\n\n\n\n\nIt’s our show now\, kid. The ghost-with-the-most comes to the stage in Beetlejuice JR.\, the frightfully funny musical based on the beloved motion picture turned Broadway phenomenon. Lydia Deetz is a strange and unusual teenager\, still grieving the loss of her mother and obsessed with the whole “being dead thing.” Lucky for Lydia\, she and her father move to a new house haunted by a recently deceased couple and Beetlejuice\, a delightful demon with a real zest for life. When Lydia calls on Beetlejuice to scare away anyone with a pulse\, this double-crossing specter shows his true stripes\, unleashing a (Nether)world of pandemonium.
URL:https://calendar.amesart.org/event/beetlejuice-jr/2026-02-01/
LOCATION:Ames City Auditorium\, 520 6th St\, Ames\, IA\, 50010\, United States
ATTACH;FMTTYPE=image/jpeg:https://calendar.amesart.org/wp-content/uploads/2025/12/BeetlejuiceJR_STC.jpg
ORGANIZER;CN="Story Theater Company":MAILTO:secretary@storytheatercompany.org
END:VEVENT
BEGIN:VEVENT
DTSTART;TZID=America/Chicago:20260201T190000
DTEND;TZID=America/Chicago:20260201T190000
DTSTAMP:20260421T111333
CREATED:20260120T002143Z
LAST-MODIFIED:20260120T002143Z
UID:10002990-1769972400-1769972400@calendar.amesart.org
SUMMARY:Cyclone Cinema: Black Phone 2 – ISU Student Union Board
DESCRIPTION:Bad dreams haunt 15-year-old Gwen as she receives calls from the black phone and sees disturbing visions of three boys being stalked at a winter camp. Accompanied by her brother\, Finn\, they head to the camp to solve the mystery\, only to confront the Grabber — a killer who’s grown even more powerful in death. \n2025 | R | 1hr 54min \n \nAll Cyclone Cinema showings start at 7:00pm. Sunday film screenings will be in open caption format. All other screenings can be open caption as long as the request is made to the staff before the movie starts.
URL:https://calendar.amesart.org/event/cyclone-cinema-black-phone-2-isu-student-union-board/2026-02-01/
LOCATION:Carver Hall\, Room 0101\, 411 Morrill Rd\, Ames\, IA 50011\, Ames\, IA\, 50011\, United States
ATTACH;FMTTYPE=image/png:https://calendar.amesart.org/wp-content/uploads/2026/01/CycloneCinema_S26_MUDD_V12.png
END:VEVENT
BEGIN:VEVENT
DTSTART;TZID=America/Chicago:20260201T190000
DTEND;TZID=America/Chicago:20260201T190000
DTSTAMP:20260421T111333
CREATED:20260124T200736Z
LAST-MODIFIED:20260124T200736Z
UID:10003769-1769972400-1769972400@calendar.amesart.org
SUMMARY:Auditions: Over the River and Through the Woods - ACTORS
DESCRIPTION:February 1 and 2 at 7 p.m.  Doors open at 6:30 p.m.\nCasting 3 men and 3 women \nFour grandparents (2 Male/2 Female) \nTwo young adults (1 Male/1 Female) \nAuditions will consist of reading from the script – a perusal copy is available at the information desk on the second floor of the Ames Public Library. \nDoors open 30 minutes early. \nACTORS is located at 120 Abraham Drive. To contact us\, please call (515)292-2073 or email us at info@actorsinc.org.  Our website address is www.actorsinc.org.
URL:https://calendar.amesart.org/event/auditions-over-the-river-and-through-the-woods-actors/
LOCATION:Ames Community Theater\, 120 Abraham Drive\, Ames\, IA\, 50010\, United States
ATTACH;FMTTYPE=image/jpeg:https://calendar.amesart.org/wp-content/uploads/2026/01/over-the-river.jpg
ORGANIZER;CN="Ames Community Theater":MAILTO:info@actorsinc.org
END:VEVENT
END:VCALENDAR