BEGIN:VCALENDAR
VERSION:2.0
PRODID:-//Ames Community Arts Council - ECPv6.15.1.1//NONSGML v1.0//EN
CALSCALE:GREGORIAN
METHOD:PUBLISH
X-ORIGINAL-URL:https://calendar.amesart.org
X-WR-CALDESC:Events for Ames Community Arts Council
REFRESH-INTERVAL;VALUE=DURATION:PT1H
X-Robots-Tag:noindex
X-PUBLISHED-TTL:PT1H
BEGIN:VTIMEZONE
TZID:America/Chicago
BEGIN:DAYLIGHT
TZOFFSETFROM:-0600
TZOFFSETTO:-0500
TZNAME:CDT
DTSTART:20260308T080000
END:DAYLIGHT
BEGIN:STANDARD
TZOFFSETFROM:-0500
TZOFFSETTO:-0600
TZNAME:CST
DTSTART:20261101T070000
END:STANDARD
END:VTIMEZONE
BEGIN:VEVENT
DTSTART;TZID=America/Chicago:20260214T100000
DTEND;TZID=America/Chicago:20260214T120000
DTSTAMP:20260425T183455
CREATED:20251103T025730Z
LAST-MODIFIED:20251103T025730Z
UID:10001255-1771063200-1771070400@calendar.amesart.org
SUMMARY:Fiber Arts Meetup - Ames Public Library
DESCRIPTION:Crafters of all ages are invited to join fellow fiber arts enthusiasts and work on their projects. Knit\, crochet\, embroidery\, or any other fiber craft is welcome! Rotary Room \nPlease bring your own materials. \n 
URL:https://calendar.amesart.org/event/fiber-arts-meetup-ames-public-library/2026-02-14/
LOCATION:Ames Public Library\, 515 Douglas Ave\, Ames\, IA\, 50010\, United States
ATTACH;FMTTYPE=image/png:https://calendar.amesart.org/wp-content/uploads/2025/11/FiberArtsMeetup-2023-INSTAGRAM.png
END:VEVENT
BEGIN:VEVENT
DTSTART;TZID=America/Chicago:20260214T100000
DTEND;TZID=America/Chicago:20260214T120000
DTSTAMP:20260425T183455
CREATED:20260121T142735Z
LAST-MODIFIED:20260121T142735Z
UID:10003544-1771063200-1771070400@calendar.amesart.org
SUMMARY:Baby Fair - Ames Public Library
DESCRIPTION:Need support as a new parent and don’t know who to ask? \nCome meet professionals and community partners to find resources and help for questions about pregnancy\, birth\, postpartum\, and health for you and your child(ren). \nThis drop-in event will feature chiropractors\, midwives\, lactation specialists and more! \nFarwell T. Brown Auditorium
URL:https://calendar.amesart.org/event/baby-fair-ames-public-library/
LOCATION:Ames Public Library\, 515 Douglas Ave\, Ames\, IA\, 50010\, United States
ATTACH;FMTTYPE=image/png:https://calendar.amesart.org/wp-content/uploads/2026/01/BabyFair-2024-02-17-FB-INSTAGRAM-02.png
END:VEVENT
BEGIN:VEVENT
DTSTART;TZID=America/Chicago:20260214T100000
DTEND;TZID=America/Chicago:20260214T170000
DTSTAMP:20260425T183455
CREATED:20251129T173630Z
LAST-MODIFIED:20251129T173630Z
UID:10002218-1771063200-1771088400@calendar.amesart.org
SUMMARY:Octagonal: The All Media Show - Octagon Center for the Arts
DESCRIPTION:Join us for the PUBLIC RECEPTION: Jan. 22\, 2026 in the Community Gallery!\nAwards will be announced during the reception.\n\nOctagonal: The All-Media Show is the annual\, juried all-media exhibition at the Octagon Center for the Arts in Ames\, Iowa. Originally titled the Clay and Paper Show\, the exhibit opened in 1968 to provide an opportunity to the central Iowa arts community. Over the past 57 years\, the exhibit morphed over the decades to become the Clay\, Fiber\, Paper\, Glass\, Metal\, Wood Exhibit that has featured hundreds of artists from dozens of states. The newest version of the exhibit\, Octagonal: The All-Media Show\, launched in 2018 taking a note from the past while moving forward to continue to provide an exciting opportunity for artists across Iowa\, the Midwest\, and the nation. This exhibit features a regionally-recognized juror each year\, attracts artists from across the United States\, and provides significant cash awards.
URL:https://calendar.amesart.org/event/octagonal-the-all-media-show-octagon-center-for-the-arts-3/2026-02-14/
LOCATION:Octagon Center for the Arts\, 427 Douglas Avenue\, Ames\, IA\, 50010\, United States
ATTACH;FMTTYPE=image/jpeg:https://calendar.amesart.org/wp-content/uploads/2025/11/Octagonal.jpg
ORGANIZER;CN="Octagon Center for the Arts":MAILTO:info@octagonarts.org
END:VEVENT
BEGIN:VEVENT
DTSTART;TZID=America/Chicago:20260214T150000
DTEND;TZID=America/Chicago:20260214T160000
DTSTAMP:20260425T183455
CREATED:20260120T043147Z
LAST-MODIFIED:20260120T043147Z
UID:10003394-1771081200-1771084800@calendar.amesart.org
SUMMARY:Conversation Circles: Russian - Ames Public Library
DESCRIPTION:Gather (in person or online) for casual conversations in Russian. Chat in your native language or get comfortable speaking in another language. \nTo join via Zoom\, click here: https://us02web.zoom.us/j/81706386269?pwd=h7HfoFApVWwea7yboGPUGsxXgRhD9w.1
URL:https://calendar.amesart.org/event/conversation-circles-russian-ames-public-library-2/2026-02-14/
LOCATION:Ames Public Library\, 515 Douglas Ave\, Ames\, IA\, 50010\, United States
ATTACH;FMTTYPE=image/png:https://calendar.amesart.org/wp-content/uploads/2025/11/ConversationCircles-2022-01-INSTAGRAM-1.png
END:VEVENT
BEGIN:VEVENT
DTSTART;TZID=America/Chicago:20260214T160000
DTEND;TZID=America/Chicago:20260214T173000
DTSTAMP:20260425T183455
CREATED:20260120T044441Z
LAST-MODIFIED:20260120T044441Z
UID:10003418-1771084800-1771090200@calendar.amesart.org
SUMMARY:Conversation Circles: French - Ames Public Library
DESCRIPTION:Gather (in person or online) for casual conversations in French. Chat in your native language or get comfortable speaking in another language. \nTo join via Zoom\, click here: https://us02web.zoom.us/j/81706386269?pwd=h7HfoFApVWwea7yboGPUGsxXgRhD9w.1
URL:https://calendar.amesart.org/event/conversation-circles-french-ames-public-library-2/2026-02-14/
LOCATION:Ames Public Library\, 515 Douglas Ave\, Ames\, IA\, 50010\, United States
ATTACH;FMTTYPE=image/png:https://calendar.amesart.org/wp-content/uploads/2023/10/ConversationCircles-2022-01-INSTAGRAM.png
END:VEVENT
BEGIN:VEVENT
DTSTART;TZID=America/Chicago:20260214T190000
DTEND;TZID=America/Chicago:20260214T190000
DTSTAMP:20260425T183455
CREATED:20260120T003001Z
LAST-MODIFIED:20260130T010637Z
UID:10003006-1771095600-1771095600@calendar.amesart.org
SUMMARY:Cyclone Cinema: Lilo & Stitch – ISU Student Union Board
DESCRIPTION:Stitch\, an extraterrestrial entity\, comes to Earth after escaping prison\, where he tries to impersonate a dog. Things take a turn when a lonely Hawaiian girl\, Lilo\, adopts him from an animal shelter and he helps mend her broken family. \n2025 | PG | 1hr 48min \n \nAll Cyclone Cinema showings start at 7:00pm. Sunday film screenings will be in open caption format. All other screenings can be open caption as long as the request is made to the staff before the movie starts. \n 
URL:https://calendar.amesart.org/event/cyclone-cinema-zootopia-2-isu-student-union-board/2026-02-14/
LOCATION:Carver Hall\, Room 0101\, 411 Morrill Rd\, Ames\, IA 50011\, Ames\, IA\, 50011\, United States
ATTACH;FMTTYPE=image/png:https://calendar.amesart.org/wp-content/uploads/2026/01/CycloneCinema_S26_MUDD_V14-1.png
END:VEVENT
END:VCALENDAR