BEGIN:VCALENDAR
VERSION:2.0
PRODID:-//Ames Community Arts Council - ECPv6.15.1.1//NONSGML v1.0//EN
CALSCALE:GREGORIAN
METHOD:PUBLISH
X-ORIGINAL-URL:https://calendar.amesart.org
X-WR-CALDESC:Events for Ames Community Arts Council
REFRESH-INTERVAL;VALUE=DURATION:PT1H
X-Robots-Tag:noindex
X-PUBLISHED-TTL:PT1H
BEGIN:VTIMEZONE
TZID:America/Chicago
BEGIN:DAYLIGHT
TZOFFSETFROM:-0600
TZOFFSETTO:-0500
TZNAME:CDT
DTSTART:20260308T080000
END:DAYLIGHT
BEGIN:STANDARD
TZOFFSETFROM:-0500
TZOFFSETTO:-0600
TZNAME:CST
DTSTART:20261101T070000
END:STANDARD
END:VTIMEZONE
BEGIN:VEVENT
DTSTART;TZID=America/Chicago:20260215T190000
DTEND;TZID=America/Chicago:20260215T190000
DTSTAMP:20260425T212627
CREATED:20260120T003001Z
LAST-MODIFIED:20260130T010637Z
UID:10003007-1771182000-1771182000@calendar.amesart.org
SUMMARY:Cyclone Cinema: Lilo & Stitch – ISU Student Union Board
DESCRIPTION:Stitch\, an extraterrestrial entity\, comes to Earth after escaping prison\, where he tries to impersonate a dog. Things take a turn when a lonely Hawaiian girl\, Lilo\, adopts him from an animal shelter and he helps mend her broken family. \n2025 | PG | 1hr 48min \n \nAll Cyclone Cinema showings start at 7:00pm. Sunday film screenings will be in open caption format. All other screenings can be open caption as long as the request is made to the staff before the movie starts. \n 
URL:https://calendar.amesart.org/event/cyclone-cinema-zootopia-2-isu-student-union-board/2026-02-15/
LOCATION:Carver Hall\, Room 0101\, 411 Morrill Rd\, Ames\, IA 50011\, Ames\, IA\, 50011\, United States
ATTACH;FMTTYPE=image/png:https://calendar.amesart.org/wp-content/uploads/2026/01/CycloneCinema_S26_MUDD_V14-1.png
END:VEVENT
END:VCALENDAR