BEGIN:VCALENDAR
VERSION:2.0
PRODID:-//Ames Community Arts Council - ECPv6.15.1.1//NONSGML v1.0//EN
CALSCALE:GREGORIAN
METHOD:PUBLISH
X-WR-CALNAME:Ames Community Arts Council
X-ORIGINAL-URL:https://calendar.amesart.org
X-WR-CALDESC:Events for Ames Community Arts Council
REFRESH-INTERVAL;VALUE=DURATION:PT1H
X-Robots-Tag:noindex
X-PUBLISHED-TTL:PT1H
BEGIN:VTIMEZONE
TZID:America/Chicago
BEGIN:DAYLIGHT
TZOFFSETFROM:-0600
TZOFFSETTO:-0500
TZNAME:CDT
DTSTART:20260308T080000
END:DAYLIGHT
BEGIN:STANDARD
TZOFFSETFROM:-0500
TZOFFSETTO:-0600
TZNAME:CST
DTSTART:20261101T070000
END:STANDARD
END:VTIMEZONE
BEGIN:VEVENT
DTSTART;TZID=America/Chicago:20260217T091500
DTEND;TZID=America/Chicago:20260217T100000
DTSTAMP:20260421T111242
CREATED:20260124T160306Z
LAST-MODIFIED:20260124T160402Z
UID:10003550-1771319700-1771322400@calendar.amesart.org
SUMMARY:Exploring Art February - Exploring Art\, 18 months - 3’s - Octagon Center for the Arts
DESCRIPTION:Exploring Art\, 18 months – 3’s with an adult partner\nTuesdays\, 9:15 – 10 a.m.\n$65 for 4 week sessions\nFebruary 3 – 24 \nChildren and their adult partner will explore art together in a relaxed environment. Toddlers will create their own works of art while learning new skills like arranging\, gluing\, coloring over texture\, painting with different objects\, moving through transitions and imitating art making processes. Activities will focus on age appropriate\, playful\, artistic and sensory materials. \nClass size limit: 6 child/adult pairs.\nInstructor: Beth Weninger\nHunziker Studio
URL:https://calendar.amesart.org/event/exploring-art-february-exploring-art-18-months-3s-with-an-adult-partner/2026-02-17/
LOCATION:Octagon Center for the Arts\, 427 Douglas Avenue\, Ames\, IA\, 50010\, United States
ATTACH;FMTTYPE=image/jpeg:https://calendar.amesart.org/wp-content/uploads/2025/10/Toddlers-Exploring-Art.jpg
ORGANIZER;CN="Octagon Center for the Arts":MAILTO:info@octagonarts.org
END:VEVENT
BEGIN:VEVENT
DTSTART;TZID=America/Chicago:20260217T100000
DTEND;TZID=America/Chicago:20260217T160000
DTSTAMP:20260421T111242
CREATED:20251229T172121Z
LAST-MODIFIED:20251229T172121Z
UID:10002294-1771322400-1771344000@calendar.amesart.org
SUMMARY:Terra Cotta Conservation in the Art on Campus Collection
DESCRIPTION:University Museums presents “Terra Cotta Conservation in the Art on Campus Collection\,” an intimate exhibition in the Christian Petersen Art Museum showcasing the innovative technology and conservation science used to preserve Danish-American artist Christian Petersen’s iconic terra cotta sculptures across Iowa State University’s campus. \nThe exhibition\, which opens one week prior to classes beginning for the semester\, features materials samples\, 3D scanning documentation\, and behind-the-scenes insights from the ongoing conservation of the “History of Dairying” fountain—a National Register of Historic Places landmark created in 1934 as one of the nation’s earliest Public Works of Art Project (PWAP) installations. \nDemocratic Material Meets Iowa Weather\nWorking within Depression-era constraints\, Iowa State College President Raymond M. Hughes directed Petersen to work in terra cotta—”perhaps in tile or pottery”— because ISU’s Ceramic Engineering Department could produce it on campus within the tight PWAP budget and timeline. The material was affordable and expressive—Petersen could create detailed public art for Iowa State’s students at a fraction of the cost of bronze or marble\, perfectly aligned with the land-grant mission of serving everyone\, not elite institutions. The hand-modeling technique allowed him to capture intricate details in works like the “Fountain of the Four Seasons\,” 1941 and “Three Athletes\,” 1936. \nISU Innovation in Action\nThe exhibition highlights the partnership between University Museums and ISU’s Manufacturing & Teaching Labs\, where Sawyer Krotz conducted comprehensive 3D scans of the “History of Dairying” fountain to create precise digital models for replication. The same technology was used to replicate the terra cotta for the “Fountain of the Four Seasons\,” recently re-dedicated after multi-year conservation. Iowa State’s terra cotta sculptures face challenges from freeze-thaw cycles. The same material that once drained Iowa’s agricultural fields (as drain tiles) graces campus buildings and public spaces\, requiring specialized preservation approaches developed through ISU’s materials science and engineering expertise. \n“Prior to 3D scanning\, successive replications of sculptures would be smaller than their originals due to approximately 5% shrinkage when terra cotta is fired\,” said Sydney Marshall\, Curator at University Museums. “A direct mold of the original would ultimately produce a smaller result because of that shrinkage. With 3D scanning\, we can digitally scale up the models by 5% before creating the molds\, ensuring the final fired terra cotta matches Petersen’s original dimensions exactly.” \nAfter 3D scanning\, the digital models are scaled up and used to create forms that terra cotta specialists use for traditional slip-casting methods. The active “History of Dairying” conservation project—which includes foundation repairs\, mural preservation\, and tier replication—is currently underway\, with fundraising still in progress to complete this (National Register) landmark preservation effort. \nExhibition Details\n“Terra Cotta Conservation in the Art on Campus Collection ” offers visitors an insider’s look at how Iowa State preserves and conserves historic objects—from the actual 3D scan data that captured Christian Petersen’s 1934 fountain details to materials samples showing 90 years of Iowa freeze-thaw damage . \nThis exhibition is curated by University Museums and sponsored by the Department of Mechanical Engineering and The John and Nancy Hayes Chair in Mechanical Engineering. \nThe exhibition opens January 12 and runs through December 18\, 2026\nWeekdays 10 a.m. to 4 p.m.\nChristian Petersen Art Museum’s Neva M. Petersen Gallery\nMorrill Hall\, Ground Floor Hallway\nFree admission \nSpecial Event\nMarch 10\, 5:30–6:30 PM\nTech Meets Tradition: Preserving Campus Art with Materials Engineering\nChristian Petersen Art Museum\, 003 Morrill Hall \nIn conjunction with the exhibition Terra Cotta Conservation in the Art on Campus Collection\, materials engineer Sawyer Krotz will join curator Sydney Marshall for a dynamic exploration of how technology is shaping the future of the conservation of sculpture. Following a guided tour of the exhibition\, watch a live demonstration of object scanning and learn how these tools can support the preservation and restoration of public art. Especially great for anyone interested in materials engineering\, museum conservation\, or historic preservation—no technical background required.\nFree and open to the public.
URL:https://calendar.amesart.org/event/terra-cotta-conservation-in-the-art-on-campus-collection/2026-02-17/
LOCATION:Christian Peterson Art Museum\, 1017 Morrill Hall\, 603 Morrill Rd\, Ames\, IA\, 50011\, United States
ATTACH;FMTTYPE=image/jpeg:https://calendar.amesart.org/wp-content/uploads/2025/12/Exhibition_Terra_Cotta_Email_Banner.jpg
ORGANIZER;CN="University Museums":MAILTO:museums@iastate.edu
END:VEVENT
BEGIN:VEVENT
DTSTART;TZID=America/Chicago:20260217T100000
DTEND;TZID=America/Chicago:20260217T173000
DTSTAMP:20260421T111242
CREATED:20251129T172959Z
LAST-MODIFIED:20251129T173714Z
UID:10002152-1771322400-1771349400@calendar.amesart.org
SUMMARY:Octagonal: The All Media Show - Octagon Center for the Arts
DESCRIPTION:Join us for the PUBLIC RECEPTION: Jan. 22\, 2026 in the Community Gallery!\nAwards will be announced during the reception.\n\nOctagonal: The All-Media Show is the annual\, juried all-media exhibition at the Octagon Center for the Arts in Ames\, Iowa. Originally titled the Clay and Paper Show\, the exhibit opened in 1968 to provide an opportunity to the central Iowa arts community. Over the past 57 years\, the exhibit morphed over the decades to become the Clay\, Fiber\, Paper\, Glass\, Metal\, Wood Exhibit that has featured hundreds of artists from dozens of states. The newest version of the exhibit\, Octagonal: The All-Media Show\, launched in 2018 taking a note from the past while moving forward to continue to provide an exciting opportunity for artists across Iowa\, the Midwest\, and the nation. This exhibit features a regionally-recognized juror each year\, attracts artists from across the United States\, and provides significant cash awards.
URL:https://calendar.amesart.org/event/octagonal-the-all-media-show-octagon-center-for-the-arts/2026-02-17/
LOCATION:Octagon Center for the Arts\, 427 Douglas Avenue\, Ames\, IA\, 50010\, United States
ATTACH;FMTTYPE=image/jpeg:https://calendar.amesart.org/wp-content/uploads/2025/11/Octagonal.jpg
ORGANIZER;CN="Octagon Center for the Arts":MAILTO:info@octagonarts.org
END:VEVENT
BEGIN:VEVENT
DTSTART;TZID=America/Chicago:20260217T103000
DTEND;TZID=America/Chicago:20260217T110000
DTSTAMP:20260421T111242
CREATED:20260120T012851Z
LAST-MODIFIED:20260120T012851Z
UID:10003149-1771324200-1771326000@calendar.amesart.org
SUMMARY:Family Storytime - Ames Public Library
DESCRIPTION:Children of all ages and their grown-ups are invited to this storytime to build listening\, language\, and literacy skills through music\, movement\, song and action rhymes. Each week will feature a new theme.
URL:https://calendar.amesart.org/event/family-storytime-ames-public-library-2/2026-02-17/
LOCATION:Ames Public Library\, 515 Douglas Ave\, Ames\, IA\, 50010\, United States
ATTACH;FMTTYPE=image/png:https://calendar.amesart.org/wp-content/uploads/2025/11/Storytimes-2022-FB-INSTAGRAM-02_3.png
END:VEVENT
BEGIN:VEVENT
DTSTART;TZID=America/Chicago:20260217T120000
DTEND;TZID=America/Chicago:20260217T160000
DTSTAMP:20260421T111242
CREATED:20260202T195117Z
LAST-MODIFIED:20260217T223918Z
UID:10004218-1771329600-1771344000@calendar.amesart.org
SUMMARY:America 250: Prairie\, Plows\, and the People's College - University Museums
DESCRIPTION:America 250: Prairie\, Plows\, and the People’s College\nFebruary – October 2026 \nAmerica 250: Prairie\, Plows\, and the People’s College honors key people\, moments\, objects\, and experiences centered within Farm House through more than 250 primary source objects. The exhibition presents six themes—Early Iowa State Agricultural College and Model Farm\, Early Iowa\, Immigration\, National Imagery\, Native Stories\, and Innovation and the Victorian Home—through decorative arts\, textiles\, furniture\, agricultural implements\, and documents that trace the land-grant university’s heritage and the nation’s evolution. \nVisitors will see George Washington Carver featured in the 1896 Bomb yearbook as the first Black man to enroll\, graduate\, and teach at Iowa State; a hand-painted Norwegian Rosemaling trunk from 1852 personalized with the name “Anna”; Mary Beaumont Welch’s 1884 cookbook from the first Department of Domestic Economy in the nation; the VEISHA bicycle from the 1890s; and early student yearbooks revealing timeless aspects of college life. \nReflective questions appear throughout the exhibition\, inviting visitors to consider how historical narratives continue to shape contemporary society. Topics range from the Morrill Act of 1862 and land-grant universities to immigration patterns in Iowa\, Indigenous history\, and Victorian-era technological innovation. \nOn July 4\, 2026\, the United States will commemorate the 250th anniversary of its founding. Farm House Museum\, built in 1860 as Iowa State’s first building\, has been central to the development of campus\, Iowa State heritage\, education\, innovation\, and national policy.
URL:https://calendar.amesart.org/event/america-250-prairie-plows-and-the-peoples-college-2/2026-02-17/
LOCATION:Farm House Museum\, 601 Farm House Lane\, Ames\, IA\, 50011\, United States
ATTACH;FMTTYPE=image/png:https://calendar.amesart.org/wp-content/uploads/2026/02/unnamed-1.png
ORGANIZER;CN="University Museums":MAILTO:museums@iastate.edu
END:VEVENT
BEGIN:VEVENT
DTSTART;TZID=America/Chicago:20260217T130000
DTEND;TZID=America/Chicago:20260217T153000
DTSTAMP:20260421T111242
CREATED:20260124T163618Z
LAST-MODIFIED:20260124T163618Z
UID:10003627-1771333200-1771342200@calendar.amesart.org
SUMMARY:Beginning Watercolor Painting\, Ages 18+ - Octagon Center for the Arts
DESCRIPTION:Beginning Watercolor Painting\, Ages 18+\n\n\nBeginning Watercolor Painting\, Ages 18+\nTuesdays\, 1 – 3:30 p.m.\nFebruary 10 – March 10 (5 weeks)\n$120 \nLearn and practice brush control\, general principles\, techniques and tricks using watercolors. Students will learn to simulate texture and patterns resulting from combining and layering or glazing their paints. Basic skills in the use of transparent watercolors\, design principles including composition\, and how to decide what to keep or eliminate in your art will be covered. \nClass size limit: 12\nStudio Location: Dance/East Auxiliary Studio\nInstructor: Mike Mittermeier\nLearn more about Mike Mittermeier on Instagram @mikemittermeier \nMATERIALS LIST: Please bring the following to class \nWATERCOLOR PAINTS\nTransparent (Tube) watercolors. Tube watercolors are best and last longer than pan/palette watercolors.\nCadmium Red or Alizarin crimson\nCadmium Yellow or Lemon yellow\nRaw Sienna\nUltramarine Blue or Cerulean Blue\nHookers Green\nCadmium yellow\nPaynes grey\nBurnt Sienna\nOptional-Chinese white\nI have used Winsor Newton\, Holbein and Schminke. (Holbein is my favorite)\nTry to stay clear of the pan sets\, they are ok\, however\, they don’t last and quality is not as good.\nWATERCOLOR PAPER\n9” x 12 “ Cold Press Watercolor Pad from any of the following: Winsor & Newton\, Canson\, Strathmore\, or Arches\nWATERCOLOR BRUSHES*\n#8 Bright or flat\n# 10 or 14 Round\n# 0-2 Round long bristles\n*Get the best brushes you can afford. A Mix Synthetic brush lasts and lasts. These brushes are made with a mixture of synthetic filaments designed to replicate the properties of natural hair like sable\, often with added benefits like increased longevity and better color release.\n~Kolinski are pricey\, but they are great for holding paint and have a more natural feel.\n~Masterstroke\n~Red sable is resilient and budget friendly.\n~Chinese brushes are also great to have\, less expensive than sable.\nMISC.\nThe Watercolor color wheel; A reference guide to watercolor colors (Jerry’s Art-a-Rama and Amazon)\nXacto Knife (Or something similar) CAREFUL THEY ARE SHARP!\nHake 2 or 3 inch and natural sponge/elephant ear sponge (Hobby Lobby\, Amazon\, Jerry’s Art-a-Rama)
URL:https://calendar.amesart.org/event/beginning-watercolor-painting-ages-18-octagon-center-for-the-arts/2026-02-17/
LOCATION:Octagon Center for the Arts\, 427 Douglas Avenue\, Ames\, IA\, 50010\, United States
ATTACH;FMTTYPE=image/jpeg:https://calendar.amesart.org/wp-content/uploads/2024/02/Watercolor.jpg
ORGANIZER;CN="Octagon Center for the Arts":MAILTO:info@octagonarts.org
END:VEVENT
BEGIN:VEVENT
DTSTART;TZID=America/Chicago:20260217T133000
DTEND;TZID=America/Chicago:20260217T140000
DTSTAMP:20260421T111242
CREATED:20260120T020923Z
LAST-MODIFIED:20260120T020923Z
UID:10003221-1771335000-1771336800@calendar.amesart.org
SUMMARY:Baby Time - Ames Public Library
DESCRIPTION:Bring your pre-walker to the Library for stories\, songs\, and baby sign language. Join with other caregivers and older siblings for 20 minutes of fun and learning. Feel free to bring a stuffed animal or doll for the older sibling to learn along with you. \nBabies and caregivers are welcome to stay and play after the event!
URL:https://calendar.amesart.org/event/baby-time-ames-public-library-4/2026-02-17/
LOCATION:Ames Public Library\, 515 Douglas Ave\, Ames\, IA\, 50010\, United States
ATTACH;FMTTYPE=image/png:https://calendar.amesart.org/wp-content/uploads/2025/11/Storytimes-2022-FB-INSTAGRAM-02_3.png
END:VEVENT
BEGIN:VEVENT
DTSTART;TZID=America/Chicago:20260217T160000
DTEND;TZID=America/Chicago:20260217T170000
DTSTAMP:20260421T111242
CREATED:20251103T004926Z
LAST-MODIFIED:20251103T004926Z
UID:10001165-1771344000-1771347600@calendar.amesart.org
SUMMARY:Kids Chess Club - Ames Public Library
DESCRIPTION:Come play chess! Whether you are just a beginner or already an expert\, all kids in grades 1-5 are welcome to come have fun. Drop in and learn how to play or make new friends with other chess lovers.  Storytime Room \n515 Douglas Avenue\nAmes\, IA 50010 \n(515) 239-5646 \n\nLibrary Hours \nMon. – Thurs.: 9 a.m. – 9 p.m.\nFri. & Sat.: 9 a.m. – 6 p.m.\nSun: 1 – 5 p.m.
URL:https://calendar.amesart.org/event/kids-chess-club-ames-public-library/2026-02-17/
LOCATION:Ames Public Library\, 515 Douglas Ave\, Ames\, IA\, 50010\, United States
ATTACH;FMTTYPE=image/png:https://calendar.amesart.org/wp-content/uploads/2025/11/KidsChessClub-2024-06-FB-INSTAGRAM-02.png
END:VEVENT
BEGIN:VEVENT
DTSTART;TZID=America/Chicago:20260217T170000
DTEND;TZID=America/Chicago:20260217T180000
DTSTAMP:20260421T111242
CREATED:20260120T021613Z
LAST-MODIFIED:20260120T021613Z
UID:10003238-1771347600-1771351200@calendar.amesart.org
SUMMARY:International Community Meetup - Ames Public Library
DESCRIPTION:Join fellow international residents on the third Tuesday of each month for fun activities and culture-sharing. \nPresented in partnership with Ames Public Library and Iowa State University International Students and Scholars Office.
URL:https://calendar.amesart.org/event/international-community-meetup-ames-public-library/2026-02-17/
LOCATION:Ames Public Library\, 515 Douglas Ave\, Ames\, IA\, 50010\, United States
ATTACH;FMTTYPE=image/png:https://calendar.amesart.org/wp-content/uploads/2025/11/InternationalCommunityMeetup-NewGraphic-2025-07-FB-INSTAGRAM-02_0.png
END:VEVENT
BEGIN:VEVENT
DTSTART;TZID=America/Chicago:20260217T173000
DTEND;TZID=America/Chicago:20260217T190000
DTSTAMP:20260421T111242
CREATED:20260120T022505Z
LAST-MODIFIED:20260120T022529Z
UID:10003246-1771349400-1771354800@calendar.amesart.org
SUMMARY:Dog-Eared Books Thrills & Chills Book Club - Ames Public Library
DESCRIPTION:Thrills & Chills is the book club you’ll want to join if you love a bit of spookiness while reading. It’s led by Jordan\, a fan of all types of mystery and thriller novels. Explore the mystery/thriller genre with each read in this chilling but super chill book club. PEO Room \n2026 \n\nJanuary 20 – Never Saw Me Coming by Vera Kurian\nFebruary 17 – So Happy Together by Olivia Worley\nMarch 17 – Missing Sam by Thrity Umrigar\nApril 21 – The Frozen People by Elly Griffiths\nMay 19 – Seven Reasons to Murder Your Dinner Guests by KJ Whittle\nJune 16 – The Midnight Taxi by Yosha Gunasekera\n\nPresented in partnership with Ames Public Library and Dog-Eared Books.
URL:https://calendar.amesart.org/event/dog-eared-books-thrills-chills-book-club/2026-02-17/
LOCATION:IA
ATTACH;FMTTYPE=image/jpeg:https://calendar.amesart.org/wp-content/uploads/2019/11/Essential-Books.jpg
END:VEVENT
BEGIN:VEVENT
DTSTART;TZID=America/Chicago:20260217T180000
DTEND;TZID=America/Chicago:20260217T190000
DTSTAMP:20260421T111242
CREATED:20251108T011046Z
LAST-MODIFIED:20251108T011350Z
UID:10001654-1771351200-1771354800@calendar.amesart.org
SUMMARY:Floral Design Workshops - Reiman Gardens
DESCRIPTION:Learn to create beautiful floral arrangements to take home – a different style each month!\nThird Tuesday of each month\, 6 – 7 p.m. \nJoin cherished instructor and State Fair Master Floral Judge Sandy Gossman for a different monthly hands-on floral arrangement workshop. Designs range from contemporary vase arrangements to structured forms using tropical leaves\, dried materials\, event florals\, and more! Materials include a mixture of market flowers and seasonal flowers cut fresh from Reiman Gardens. \n\n2025 Dates & Topics\n\nNovember 18: Woody & Wild\nDecember 16: Solstice Centerpieces (oasis)\n\n2026 Dates & Topics\n\nJanuary 20: Grocer’s Roses\nFebruary 17: Floral Flurries\nMarch 17: Green Goodness\nApril 21: Fairy Garden Tea Cups (2 tea cups)\nMay 19: Tropic Like It’s Hot\nJune 16: Herbal Centerpieces (oasis)\nJuly 21:Miniature Masterpieces (vases or oasis)\nAugust 18: Big Bloom Bunches\nSeptember 15: Colorful Crescents\nOctober 20: Succulent Pumpkins (pumpkin)\nNovember 17: Grassy Swags (wire frame)\nDecember 15: Winter Ikebana (oasis or frogs)\n\nCOPY LINK \n\nPrices\n\n\n$62\nGeneral Public Any age\n\n\n$50\nMembers Must Present Membership Card at Check-In\n\n\n$43\nISU Students Valid with Student ID
URL:https://calendar.amesart.org/event/floral-design-workshops-reiman-gardens/2026-02-17/
LOCATION:Reiman Gardens\, 1407 University Blvd\, Ames\, IA\, 50010\, United States
ATTACH;FMTTYPE=image/jpeg:https://calendar.amesart.org/wp-content/uploads/2025/11/Floral.jpg
ORGANIZER;CN="Reiman Gardens":MAILTO:reimangardens@iastate.edu
END:VEVENT
BEGIN:VEVENT
DTSTART;TZID=America/Chicago:20260217T180000
DTEND;TZID=America/Chicago:20260217T200000
DTSTAMP:20260421T111242
CREATED:20260124T161611Z
LAST-MODIFIED:20260124T161611Z
UID:10003558-1771351200-1771358400@calendar.amesart.org
SUMMARY:Portrait Painting Ages\, 18+ - Octagon Center for the Arts
DESCRIPTION:Art of the Portrait\,  Ages 18+\nTuesdays\, 6 – 8 p.m.\nFebruary 10 – 24 (3 weeks)\n$85 \nStudents will explore the art of painting portraits.  Students have the choice to paint from a photo\, or paint a self-portrait by using a mirror. Students will learn to explore color\, likeness\, and the many ways of depicting a person on canvas.\nOil paint focused\, but other media are also welcome. All skill levels are welcome! \nInstructor: Zack Bukovich\nClass Size Limit: 10\nStudio Location: TBA \nStudent supply list:\nChoose preferred type of Paint: Gouache\, Acrylic or Oil Paint \n\n4-6 canvases\, panels or paper\, between 9 x12” and 16 x 20”\n\nGouache or Acrylic Supplies: \n\nGouache or Acrylic paints: A simple color palette of basic colors (red\, blue\, yellow\, black\, white and brown).\nBrushes*\n\nOil Painting Supplies: \n\nOil Paints:  Ivory Black\, Yellow Ochre\, Titanium white\, warm yellow and cool yellow (usually cadmium yellow and lemon yellow)\, warm red and cool red (usually cadmium red and alizarin crimson) and ultramarine blue; other colors of your choice (bring what you have).\nMixed sized brushes (can be bristle or synthetic)*\nPalette Knife\nPalette surface (sheets are fine)\nOdorless Turpentine or Gamsol\nPaint mixing tray\n*The Octagon will provide  paper towels\, pencils\, gently used paintbrushes of varying type and size.
URL:https://calendar.amesart.org/event/portrait-painting-ages-18-octagon-center-for-the-arts-2/2026-02-17/
LOCATION:Octagon Center for the Arts\, 427 Douglas Avenue\, Ames\, IA\, 50010\, United States
ATTACH;FMTTYPE=image/jpeg:https://calendar.amesart.org/wp-content/uploads/2025/10/Self_Portrait_Class_brlmev.jpg
ORGANIZER;CN="Octagon Center for the Arts":MAILTO:info@octagonarts.org
END:VEVENT
BEGIN:VEVENT
DTSTART;TZID=America/Chicago:20260217T190000
DTEND;TZID=America/Chicago:20260217T203000
DTSTAMP:20260421T111242
CREATED:20260120T023043Z
LAST-MODIFIED:20260120T023043Z
UID:10003259-1771354800-1771360200@calendar.amesart.org
SUMMARY:Conversation Circles: Spanish - Ames Public Library
DESCRIPTION:Gather (in person or online) for casual conversations in Spanish. Chat in your native language or get comfortable speaking in another language. Dale H. Ross Board Room \nTo join via Zoom\, click here: https://us02web.zoom.us/j/81706386269?pwd=h7HfoFApVWwea7yboGPUGsxXgRhD9w.1 \n 
URL:https://calendar.amesart.org/event/conversation-circles-spanish-ames-public-library-2/2026-02-17/
LOCATION:Ames Public Library\, 515 Douglas Ave\, Ames\, IA\, 50010\, United States
ATTACH;FMTTYPE=image/png:https://calendar.amesart.org/wp-content/uploads/2025/11/ConversationCircles-2022-01-INSTAGRAM-1.png
END:VEVENT
END:VCALENDAR