BEGIN:VCALENDAR
VERSION:2.0
PRODID:-//Ames Community Arts Council - ECPv6.15.1.1//NONSGML v1.0//EN
CALSCALE:GREGORIAN
METHOD:PUBLISH
X-WR-CALNAME:Ames Community Arts Council
X-ORIGINAL-URL:https://calendar.amesart.org
X-WR-CALDESC:Events for Ames Community Arts Council
REFRESH-INTERVAL;VALUE=DURATION:PT1H
X-Robots-Tag:noindex
X-PUBLISHED-TTL:PT1H
BEGIN:VTIMEZONE
TZID:America/Chicago
BEGIN:DAYLIGHT
TZOFFSETFROM:-0600
TZOFFSETTO:-0500
TZNAME:CDT
DTSTART:20260308T080000
END:DAYLIGHT
BEGIN:STANDARD
TZOFFSETFROM:-0500
TZOFFSETTO:-0600
TZNAME:CST
DTSTART:20261101T070000
END:STANDARD
END:VTIMEZONE
BEGIN:VEVENT
DTSTART;TZID=America/Chicago:20260227T100000
DTEND;TZID=America/Chicago:20260227T160000
DTSTAMP:20260421T093845
CREATED:20251229T172121Z
LAST-MODIFIED:20251229T172121Z
UID:10002302-1772186400-1772208000@calendar.amesart.org
SUMMARY:Terra Cotta Conservation in the Art on Campus Collection
DESCRIPTION:University Museums presents “Terra Cotta Conservation in the Art on Campus Collection\,” an intimate exhibition in the Christian Petersen Art Museum showcasing the innovative technology and conservation science used to preserve Danish-American artist Christian Petersen’s iconic terra cotta sculptures across Iowa State University’s campus. \nThe exhibition\, which opens one week prior to classes beginning for the semester\, features materials samples\, 3D scanning documentation\, and behind-the-scenes insights from the ongoing conservation of the “History of Dairying” fountain—a National Register of Historic Places landmark created in 1934 as one of the nation’s earliest Public Works of Art Project (PWAP) installations. \nDemocratic Material Meets Iowa Weather\nWorking within Depression-era constraints\, Iowa State College President Raymond M. Hughes directed Petersen to work in terra cotta—”perhaps in tile or pottery”— because ISU’s Ceramic Engineering Department could produce it on campus within the tight PWAP budget and timeline. The material was affordable and expressive—Petersen could create detailed public art for Iowa State’s students at a fraction of the cost of bronze or marble\, perfectly aligned with the land-grant mission of serving everyone\, not elite institutions. The hand-modeling technique allowed him to capture intricate details in works like the “Fountain of the Four Seasons\,” 1941 and “Three Athletes\,” 1936. \nISU Innovation in Action\nThe exhibition highlights the partnership between University Museums and ISU’s Manufacturing & Teaching Labs\, where Sawyer Krotz conducted comprehensive 3D scans of the “History of Dairying” fountain to create precise digital models for replication. The same technology was used to replicate the terra cotta for the “Fountain of the Four Seasons\,” recently re-dedicated after multi-year conservation. Iowa State’s terra cotta sculptures face challenges from freeze-thaw cycles. The same material that once drained Iowa’s agricultural fields (as drain tiles) graces campus buildings and public spaces\, requiring specialized preservation approaches developed through ISU’s materials science and engineering expertise. \n“Prior to 3D scanning\, successive replications of sculptures would be smaller than their originals due to approximately 5% shrinkage when terra cotta is fired\,” said Sydney Marshall\, Curator at University Museums. “A direct mold of the original would ultimately produce a smaller result because of that shrinkage. With 3D scanning\, we can digitally scale up the models by 5% before creating the molds\, ensuring the final fired terra cotta matches Petersen’s original dimensions exactly.” \nAfter 3D scanning\, the digital models are scaled up and used to create forms that terra cotta specialists use for traditional slip-casting methods. The active “History of Dairying” conservation project—which includes foundation repairs\, mural preservation\, and tier replication—is currently underway\, with fundraising still in progress to complete this (National Register) landmark preservation effort. \nExhibition Details\n“Terra Cotta Conservation in the Art on Campus Collection ” offers visitors an insider’s look at how Iowa State preserves and conserves historic objects—from the actual 3D scan data that captured Christian Petersen’s 1934 fountain details to materials samples showing 90 years of Iowa freeze-thaw damage . \nThis exhibition is curated by University Museums and sponsored by the Department of Mechanical Engineering and The John and Nancy Hayes Chair in Mechanical Engineering. \nThe exhibition opens January 12 and runs through December 18\, 2026\nWeekdays 10 a.m. to 4 p.m.\nChristian Petersen Art Museum’s Neva M. Petersen Gallery\nMorrill Hall\, Ground Floor Hallway\nFree admission \nSpecial Event\nMarch 10\, 5:30–6:30 PM\nTech Meets Tradition: Preserving Campus Art with Materials Engineering\nChristian Petersen Art Museum\, 003 Morrill Hall \nIn conjunction with the exhibition Terra Cotta Conservation in the Art on Campus Collection\, materials engineer Sawyer Krotz will join curator Sydney Marshall for a dynamic exploration of how technology is shaping the future of the conservation of sculpture. Following a guided tour of the exhibition\, watch a live demonstration of object scanning and learn how these tools can support the preservation and restoration of public art. Especially great for anyone interested in materials engineering\, museum conservation\, or historic preservation—no technical background required.\nFree and open to the public.
URL:https://calendar.amesart.org/event/terra-cotta-conservation-in-the-art-on-campus-collection/2026-02-27/
LOCATION:Christian Peterson Art Museum\, 1017 Morrill Hall\, 603 Morrill Rd\, Ames\, IA\, 50011\, United States
ATTACH;FMTTYPE=image/jpeg:https://calendar.amesart.org/wp-content/uploads/2025/12/Exhibition_Terra_Cotta_Email_Banner.jpg
ORGANIZER;CN="University Museums":MAILTO:museums@iastate.edu
END:VEVENT
BEGIN:VEVENT
DTSTART;TZID=America/Chicago:20260227T100000
DTEND;TZID=America/Chicago:20260227T173000
DTSTAMP:20260421T093845
CREATED:20251129T172959Z
LAST-MODIFIED:20251129T173714Z
UID:10002158-1772186400-1772213400@calendar.amesart.org
SUMMARY:Octagonal: The All Media Show - Octagon Center for the Arts
DESCRIPTION:Join us for the PUBLIC RECEPTION: Jan. 22\, 2026 in the Community Gallery!\nAwards will be announced during the reception.\n\nOctagonal: The All-Media Show is the annual\, juried all-media exhibition at the Octagon Center for the Arts in Ames\, Iowa. Originally titled the Clay and Paper Show\, the exhibit opened in 1968 to provide an opportunity to the central Iowa arts community. Over the past 57 years\, the exhibit morphed over the decades to become the Clay\, Fiber\, Paper\, Glass\, Metal\, Wood Exhibit that has featured hundreds of artists from dozens of states. The newest version of the exhibit\, Octagonal: The All-Media Show\, launched in 2018 taking a note from the past while moving forward to continue to provide an exciting opportunity for artists across Iowa\, the Midwest\, and the nation. This exhibit features a regionally-recognized juror each year\, attracts artists from across the United States\, and provides significant cash awards.
URL:https://calendar.amesart.org/event/octagonal-the-all-media-show-octagon-center-for-the-arts/2026-02-27/
LOCATION:Octagon Center for the Arts\, 427 Douglas Avenue\, Ames\, IA\, 50010\, United States
ATTACH;FMTTYPE=image/jpeg:https://calendar.amesart.org/wp-content/uploads/2025/11/Octagonal.jpg
ORGANIZER;CN="Octagon Center for the Arts":MAILTO:info@octagonarts.org
END:VEVENT
BEGIN:VEVENT
DTSTART;TZID=America/Chicago:20260227T103000
DTEND;TZID=America/Chicago:20260227T110000
DTSTAMP:20260421T093845
CREATED:20260120T041216Z
LAST-MODIFIED:20260120T041216Z
UID:10003374-1772188200-1772190000@calendar.amesart.org
SUMMARY:Storybook S.T.E.M. - Ames Public Library
DESCRIPTION:Families are invited to enjoy a short storytime and get hands-on with a fun related STEM activity for all ages!
URL:https://calendar.amesart.org/event/storybook-s-t-e-m-ames-public-library-2/2026-02-27/
LOCATION:Ames Public Library\, 515 Douglas Ave\, Ames\, IA\, 50010\, United States
ATTACH;FMTTYPE=image/png:https://calendar.amesart.org/wp-content/uploads/2026/01/StorybookSTEM-2024-FB-INSTAGRAM-02_0.png
END:VEVENT
BEGIN:VEVENT
DTSTART;TZID=America/Chicago:20260227T120000
DTEND;TZID=America/Chicago:20260227T160000
DTSTAMP:20260421T093845
CREATED:20260202T195117Z
LAST-MODIFIED:20260217T223918Z
UID:10004226-1772193600-1772208000@calendar.amesart.org
SUMMARY:America 250: Prairie\, Plows\, and the People's College - University Museums
DESCRIPTION:America 250: Prairie\, Plows\, and the People’s College\nFebruary – October 2026 \nAmerica 250: Prairie\, Plows\, and the People’s College honors key people\, moments\, objects\, and experiences centered within Farm House through more than 250 primary source objects. The exhibition presents six themes—Early Iowa State Agricultural College and Model Farm\, Early Iowa\, Immigration\, National Imagery\, Native Stories\, and Innovation and the Victorian Home—through decorative arts\, textiles\, furniture\, agricultural implements\, and documents that trace the land-grant university’s heritage and the nation’s evolution. \nVisitors will see George Washington Carver featured in the 1896 Bomb yearbook as the first Black man to enroll\, graduate\, and teach at Iowa State; a hand-painted Norwegian Rosemaling trunk from 1852 personalized with the name “Anna”; Mary Beaumont Welch’s 1884 cookbook from the first Department of Domestic Economy in the nation; the VEISHA bicycle from the 1890s; and early student yearbooks revealing timeless aspects of college life. \nReflective questions appear throughout the exhibition\, inviting visitors to consider how historical narratives continue to shape contemporary society. Topics range from the Morrill Act of 1862 and land-grant universities to immigration patterns in Iowa\, Indigenous history\, and Victorian-era technological innovation. \nOn July 4\, 2026\, the United States will commemorate the 250th anniversary of its founding. Farm House Museum\, built in 1860 as Iowa State’s first building\, has been central to the development of campus\, Iowa State heritage\, education\, innovation\, and national policy.
URL:https://calendar.amesart.org/event/america-250-prairie-plows-and-the-peoples-college-2/2026-02-27/
LOCATION:Farm House Museum\, 601 Farm House Lane\, Ames\, IA\, 50011\, United States
ATTACH;FMTTYPE=image/png:https://calendar.amesart.org/wp-content/uploads/2026/02/unnamed-1.png
ORGANIZER;CN="University Museums":MAILTO:museums@iastate.edu
END:VEVENT
BEGIN:VEVENT
DTSTART;TZID=America/Chicago:20260227T160000
DTEND;TZID=America/Chicago:20260227T180000
DTSTAMP:20260421T093845
CREATED:20260120T041808Z
LAST-MODIFIED:20260120T041808Z
UID:10003386-1772208000-1772215200@calendar.amesart.org
SUMMARY:Teen Book vs. Movie: Movie Night - Ames Public Library
DESCRIPTION:Hey teens\, take a front row seat in the ultimate showdown: book vs. movie! In the Teen Space. \nEvery month\, we’ll feature a teen book that’s been made into a movie. Come to the book club to chat about the book and eat snacks. OR come to movie night to watch the movie version and eat snacks. OR\, come to both! \nStop by the Teen Space or Youth Services Desk to let us know if you need a copy of the next book. \nCheck the Ames Public Library website for movie / book titles! \nSupported by the Ames Public Library Friends Foundation.
URL:https://calendar.amesart.org/event/teen-book-vs-movie-movie-night-ames-public-library/2026-02-27/
LOCATION:IA
ATTACH;FMTTYPE=image/png:https://calendar.amesart.org/wp-content/uploads/2026/01/TeenBookVsMovie-2025-FB-INSTAGRAM-02_0.png
END:VEVENT
BEGIN:VEVENT
DTSTART;TZID=America/Chicago:20260227T170000
DTEND;TZID=America/Chicago:20260227T190000
DTSTAMP:20260421T093845
CREATED:20260205T030143Z
LAST-MODIFIED:20260205T030143Z
UID:10004409-1772211600-1772218800@calendar.amesart.org
SUMMARY:Friday Soirée - Maintenance Shop
DESCRIPTION:ISU MUSIC AND THEATRE students present the semester’s first FRIDAY SOIRÉE on Friday\, February 27 from 5-7 pm in the Memorial Union’s Maintenance Shop. \nA soirée is “an evening gathering for conversation\, performance\, and music.” Join Music and Theatre faculty\, staff\, and students in this time of fellowship and informal performance opportunity.
URL:https://calendar.amesart.org/event/friday-soiree-maintenance-shop/
LOCATION:ISU Memorial Union-Maintenance Shop\, 2229 Lincoln Way\, Ames\, IA\, 50011\, United States
ATTACH;FMTTYPE=image/jpeg:https://calendar.amesart.org/wp-content/uploads/2026/02/FridaySoiree-01_0.jpg
END:VEVENT
BEGIN:VEVENT
DTSTART;TZID=America/Chicago:20260227T190000
DTEND;TZID=America/Chicago:20260227T190000
DTSTAMP:20260421T093845
CREATED:20260120T003450Z
LAST-MODIFIED:20260120T003450Z
UID:10003039-1772218800-1772218800@calendar.amesart.org
SUMMARY:Cyclone Cinema: Wicked: For Good – ISU Student Union Board
DESCRIPTION:Now demonized as the Wicked Witch of the West\, Elphaba lives in exile in the Ozian forest\, while Glinda resides at the palace in Emerald City\, reveling in the perks of fame and popularity. As an angry mob rises against the Wicked Witch\, she’ll need to reunite with Glinda to transform herself\, and all of Oz\, for good. \n2025 | PG | 2hr 17min \n \nAll Cyclone Cinema showings start at 7:00pm. Sunday film screenings will be in open caption format. All other screenings can be open caption as long as the request is made to the staff before the movie starts. \n 
URL:https://calendar.amesart.org/event/cyclone-cinema-wicked-for-good-isu-student-union-board/2026-02-27/
LOCATION:Carver Hall\, Room 0101\, 411 Morrill Rd\, Ames\, IA 50011\, Ames\, IA\, 50011\, United States
ATTACH;FMTTYPE=image/png:https://calendar.amesart.org/wp-content/uploads/2026/01/CycloneCinema_S26_MUDD_V16.png
END:VEVENT
BEGIN:VEVENT
DTSTART;TZID=America/Chicago:20260227T190000
DTEND;TZID=America/Chicago:20260227T190000
DTSTAMP:20260421T093845
CREATED:20260203T015126Z
LAST-MODIFIED:20260203T015126Z
UID:10004403-1772218800-1772218800@calendar.amesart.org
SUMMARY:Southbound - KHOI Radio
DESCRIPTION:KHOI hosts Southbound\, a tribute to The Allman Brothers Band\, for their Mid-Winter Fundraising Concert. \nTickets are available at https://app.tickettailor.com/events/aps2/2045823 and at the door.
URL:https://calendar.amesart.org/event/southbound-khoi-radio/
LOCATION:Ames City Auditorium\, 520 6th St\, Ames\, IA\, 50010\, United States
ATTACH;FMTTYPE=image/jpeg:https://calendar.amesart.org/wp-content/uploads/2026/02/SouthBound_KHOI.jpg
ORGANIZER;CN="KHOI Community Radio":MAILTO:radio@khoifm.org
END:VEVENT
BEGIN:VEVENT
DTSTART;TZID=America/Chicago:20260227T190000
DTEND;TZID=America/Chicago:20260227T210000
DTSTAMP:20260421T093845
CREATED:20260119T230324Z
LAST-MODIFIED:20260119T230324Z
UID:10002930-1772218800-1772226000@calendar.amesart.org
SUMMARY:Cabaret: Echoes of the Eras - Ames Choral Society
DESCRIPTION:The Ames Choral Society’s annual Cabaret performances will feature familiar music from the past several decades that all will enjoy! There will be full chorus and small group numbers\, plus solos from several members of the Choral society. You are invited to enjoy performances on Fri.\, Feb. 27 at 7 p.m. and Sat.\, Feb. 28 at 3 p.m.  at St. Andrew’s Lutheran Church\, 209 Colorado\, Ames.  Tickets are available online at ameschoral.org/events or will be available at the door.
URL:https://calendar.amesart.org/event/cabaret-echoes-of-the-eras-ames-choral-society/
LOCATION:St. Andrew’s Lutheran Church\, 209 Colorado Ave\, Ames\, IA\, 50014\, United States
ATTACH;FMTTYPE=image/jpeg:https://calendar.amesart.org/wp-content/uploads/2026/01/Cabaret-poster-2026-Facebook-Post-1.jpg
ORGANIZER;CN="Ames Choral Society":MAILTO:ameschoralsociety@gmail.com
END:VEVENT
END:VCALENDAR