BEGIN:VCALENDAR
VERSION:2.0
PRODID:-//Ames Community Arts Council - ECPv6.15.1.1//NONSGML v1.0//EN
CALSCALE:GREGORIAN
METHOD:PUBLISH
X-ORIGINAL-URL:https://calendar.amesart.org
X-WR-CALDESC:Events for Ames Community Arts Council
REFRESH-INTERVAL;VALUE=DURATION:PT1H
X-Robots-Tag:noindex
X-PUBLISHED-TTL:PT1H
BEGIN:VTIMEZONE
TZID:America/Chicago
BEGIN:DAYLIGHT
TZOFFSETFROM:-0600
TZOFFSETTO:-0500
TZNAME:CDT
DTSTART:20260308T080000
END:DAYLIGHT
BEGIN:STANDARD
TZOFFSETFROM:-0500
TZOFFSETTO:-0600
TZNAME:CST
DTSTART:20261101T070000
END:STANDARD
END:VTIMEZONE
BEGIN:VEVENT
DTSTART;TZID=America/Chicago:20260322T140000
DTEND;TZID=America/Chicago:20260322T160000
DTSTAMP:20260421T151028
CREATED:20251103T033330Z
LAST-MODIFIED:20251103T035909Z
UID:10001361-1774188000-1774195200@calendar.amesart.org
SUMMARY:Pokémon Club - Ames Public Library
DESCRIPTION:Calling all school-aged Poké-Kids! Come learn how to play the Pokémon Trading Card Game and use a Library-supplied deck to battle other players. You can bring your decks to talk and strategize with other players\, but card trading will not be allowed. Don’t want to play? Come to watch others\, enjoy Poké-art activities\, chat with other kids\, and build a supportive community of friends! Farwell T. Brown Auditorium \nKids ages 8 and under need to bring a caregiver along to help. Caregivers: not sure what Pokémon is all about? This is a great opportunity to learn along with your kids! \nSupported by Ames Public Library Friends Foundation.
URL:https://calendar.amesart.org/event/pokemon-club-ames-public-library/2026-03-22/
LOCATION:Ames Public Library\, 515 Douglas Ave\, Ames\, IA\, 50010\, United States
ATTACH;FMTTYPE=image/png:https://calendar.amesart.org/wp-content/uploads/2025/11/PokemonClub-2023-02-14-INSTAGRAM.png
END:VEVENT
END:VCALENDAR