BEGIN:VCALENDAR
VERSION:2.0
PRODID:-//Ames Community Arts Council - ECPv6.15.1.1//NONSGML v1.0//EN
CALSCALE:GREGORIAN
METHOD:PUBLISH
X-ORIGINAL-URL:https://calendar.amesart.org
X-WR-CALDESC:Events for Ames Community Arts Council
REFRESH-INTERVAL;VALUE=DURATION:PT1H
X-Robots-Tag:noindex
X-PUBLISHED-TTL:PT1H
BEGIN:VTIMEZONE
TZID:America/Chicago
BEGIN:DAYLIGHT
TZOFFSETFROM:-0600
TZOFFSETTO:-0500
TZNAME:CDT
DTSTART:20260308T080000
END:DAYLIGHT
BEGIN:STANDARD
TZOFFSETFROM:-0500
TZOFFSETTO:-0600
TZNAME:CST
DTSTART:20261101T070000
END:STANDARD
END:VTIMEZONE
BEGIN:VEVENT
DTSTART;TZID=America/Chicago:20260403T100000
DTEND;TZID=America/Chicago:20260403T160000
DTSTAMP:20260421T092229
CREATED:20251229T172121Z
LAST-MODIFIED:20251229T172121Z
UID:10002327-1775210400-1775232000@calendar.amesart.org
SUMMARY:Terra Cotta Conservation in the Art on Campus Collection
DESCRIPTION:University Museums presents “Terra Cotta Conservation in the Art on Campus Collection\,” an intimate exhibition in the Christian Petersen Art Museum showcasing the innovative technology and conservation science used to preserve Danish-American artist Christian Petersen’s iconic terra cotta sculptures across Iowa State University’s campus. \nThe exhibition\, which opens one week prior to classes beginning for the semester\, features materials samples\, 3D scanning documentation\, and behind-the-scenes insights from the ongoing conservation of the “History of Dairying” fountain—a National Register of Historic Places landmark created in 1934 as one of the nation’s earliest Public Works of Art Project (PWAP) installations. \nDemocratic Material Meets Iowa Weather\nWorking within Depression-era constraints\, Iowa State College President Raymond M. Hughes directed Petersen to work in terra cotta—”perhaps in tile or pottery”— because ISU’s Ceramic Engineering Department could produce it on campus within the tight PWAP budget and timeline. The material was affordable and expressive—Petersen could create detailed public art for Iowa State’s students at a fraction of the cost of bronze or marble\, perfectly aligned with the land-grant mission of serving everyone\, not elite institutions. The hand-modeling technique allowed him to capture intricate details in works like the “Fountain of the Four Seasons\,” 1941 and “Three Athletes\,” 1936. \nISU Innovation in Action\nThe exhibition highlights the partnership between University Museums and ISU’s Manufacturing & Teaching Labs\, where Sawyer Krotz conducted comprehensive 3D scans of the “History of Dairying” fountain to create precise digital models for replication. The same technology was used to replicate the terra cotta for the “Fountain of the Four Seasons\,” recently re-dedicated after multi-year conservation. Iowa State’s terra cotta sculptures face challenges from freeze-thaw cycles. The same material that once drained Iowa’s agricultural fields (as drain tiles) graces campus buildings and public spaces\, requiring specialized preservation approaches developed through ISU’s materials science and engineering expertise. \n“Prior to 3D scanning\, successive replications of sculptures would be smaller than their originals due to approximately 5% shrinkage when terra cotta is fired\,” said Sydney Marshall\, Curator at University Museums. “A direct mold of the original would ultimately produce a smaller result because of that shrinkage. With 3D scanning\, we can digitally scale up the models by 5% before creating the molds\, ensuring the final fired terra cotta matches Petersen’s original dimensions exactly.” \nAfter 3D scanning\, the digital models are scaled up and used to create forms that terra cotta specialists use for traditional slip-casting methods. The active “History of Dairying” conservation project—which includes foundation repairs\, mural preservation\, and tier replication—is currently underway\, with fundraising still in progress to complete this (National Register) landmark preservation effort. \nExhibition Details\n“Terra Cotta Conservation in the Art on Campus Collection ” offers visitors an insider’s look at how Iowa State preserves and conserves historic objects—from the actual 3D scan data that captured Christian Petersen’s 1934 fountain details to materials samples showing 90 years of Iowa freeze-thaw damage . \nThis exhibition is curated by University Museums and sponsored by the Department of Mechanical Engineering and The John and Nancy Hayes Chair in Mechanical Engineering. \nThe exhibition opens January 12 and runs through December 18\, 2026\nWeekdays 10 a.m. to 4 p.m.\nChristian Petersen Art Museum’s Neva M. Petersen Gallery\nMorrill Hall\, Ground Floor Hallway\nFree admission \nSpecial Event\nMarch 10\, 5:30–6:30 PM\nTech Meets Tradition: Preserving Campus Art with Materials Engineering\nChristian Petersen Art Museum\, 003 Morrill Hall \nIn conjunction with the exhibition Terra Cotta Conservation in the Art on Campus Collection\, materials engineer Sawyer Krotz will join curator Sydney Marshall for a dynamic exploration of how technology is shaping the future of the conservation of sculpture. Following a guided tour of the exhibition\, watch a live demonstration of object scanning and learn how these tools can support the preservation and restoration of public art. Especially great for anyone interested in materials engineering\, museum conservation\, or historic preservation—no technical background required.\nFree and open to the public.
URL:https://calendar.amesart.org/event/terra-cotta-conservation-in-the-art-on-campus-collection/2026-04-03/
LOCATION:Christian Peterson Art Museum\, 1017 Morrill Hall\, 603 Morrill Rd\, Ames\, IA\, 50011\, United States
ATTACH;FMTTYPE=image/jpeg:https://calendar.amesart.org/wp-content/uploads/2025/12/Exhibition_Terra_Cotta_Email_Banner.jpg
ORGANIZER;CN="University Museums":MAILTO:museums@iastate.edu
END:VEVENT
BEGIN:VEVENT
DTSTART;TZID=America/Chicago:20260403T103000
DTEND;TZID=America/Chicago:20260403T110000
DTSTAMP:20260421T092229
CREATED:20260120T041216Z
LAST-MODIFIED:20260120T041216Z
UID:10003379-1775212200-1775214000@calendar.amesart.org
SUMMARY:Storybook S.T.E.M. - Ames Public Library
DESCRIPTION:Families are invited to enjoy a short storytime and get hands-on with a fun related STEM activity for all ages!
URL:https://calendar.amesart.org/event/storybook-s-t-e-m-ames-public-library-2/2026-04-03/
LOCATION:Ames Public Library\, 515 Douglas Ave\, Ames\, IA\, 50010\, United States
ATTACH;FMTTYPE=image/png:https://calendar.amesart.org/wp-content/uploads/2026/01/StorybookSTEM-2024-FB-INSTAGRAM-02_0.png
END:VEVENT
BEGIN:VEVENT
DTSTART;TZID=America/Chicago:20260403T120000
DTEND;TZID=America/Chicago:20260403T160000
DTSTAMP:20260421T092229
CREATED:20260202T195117Z
LAST-MODIFIED:20260217T223918Z
UID:10004251-1775217600-1775232000@calendar.amesart.org
SUMMARY:America 250: Prairie\, Plows\, and the People's College - University Museums
DESCRIPTION:America 250: Prairie\, Plows\, and the People’s College\nFebruary – October 2026 \nAmerica 250: Prairie\, Plows\, and the People’s College honors key people\, moments\, objects\, and experiences centered within Farm House through more than 250 primary source objects. The exhibition presents six themes—Early Iowa State Agricultural College and Model Farm\, Early Iowa\, Immigration\, National Imagery\, Native Stories\, and Innovation and the Victorian Home—through decorative arts\, textiles\, furniture\, agricultural implements\, and documents that trace the land-grant university’s heritage and the nation’s evolution. \nVisitors will see George Washington Carver featured in the 1896 Bomb yearbook as the first Black man to enroll\, graduate\, and teach at Iowa State; a hand-painted Norwegian Rosemaling trunk from 1852 personalized with the name “Anna”; Mary Beaumont Welch’s 1884 cookbook from the first Department of Domestic Economy in the nation; the VEISHA bicycle from the 1890s; and early student yearbooks revealing timeless aspects of college life. \nReflective questions appear throughout the exhibition\, inviting visitors to consider how historical narratives continue to shape contemporary society. Topics range from the Morrill Act of 1862 and land-grant universities to immigration patterns in Iowa\, Indigenous history\, and Victorian-era technological innovation. \nOn July 4\, 2026\, the United States will commemorate the 250th anniversary of its founding. Farm House Museum\, built in 1860 as Iowa State’s first building\, has been central to the development of campus\, Iowa State heritage\, education\, innovation\, and national policy.
URL:https://calendar.amesart.org/event/america-250-prairie-plows-and-the-peoples-college-2/2026-04-03/
LOCATION:Farm House Museum\, 601 Farm House Lane\, Ames\, IA\, 50011\, United States
ATTACH;FMTTYPE=image/png:https://calendar.amesart.org/wp-content/uploads/2026/02/unnamed-1.png
ORGANIZER;CN="University Museums":MAILTO:museums@iastate.edu
END:VEVENT
BEGIN:VEVENT
DTSTART;TZID=America/Chicago:20260403T140000
DTEND;TZID=America/Chicago:20260403T160000
DTSTAMP:20260421T092229
CREATED:20251103T024936Z
LAST-MODIFIED:20251103T024936Z
UID:10001242-1775224800-1775232000@calendar.amesart.org
SUMMARY:Optimae Life Services at APL - Ames Public Library
DESCRIPTION:Staff from Optimae Life Services will be available in the Library to connect visitors with resources for mental health\, home health\, and community integration services. Lisa Fawcett Nilsson Study Room – 2nd floor \n515 Douglas Avenue\nAmes\, IA 50010\n(515) 239-5646 \nMon. – Thurs.: 9 a.m. – 9 p.m.\nFri. & Sat.: 9 a.m. – 6 p.m.\nSun: 1 – 5 p.m.
URL:https://calendar.amesart.org/event/optimae-life-services-at-apl-ames-public-library/2026-04-03/
LOCATION:Ames Public Library\, 515 Douglas Ave\, Ames\, IA\, 50010\, United States
END:VEVENT
BEGIN:VEVENT
DTSTART;TZID=America/Chicago:20260403T160000
DTEND;TZID=America/Chicago:20260403T180000
DTSTAMP:20260421T092229
CREATED:20260120T054053Z
LAST-MODIFIED:20260120T054053Z
UID:10003499-1775232000-1775239200@calendar.amesart.org
SUMMARY:Teen Silent Book Club - Ames Public Library
DESCRIPTION:Hey teens\, come to the Library’s Teen Silent Book Club to unwind\, read\, and connect with others. We will enjoy good books and good—but quiet—company as we munch on some snacks. \nBring your own book or grab one from the Library’s shelves. We will start each club off with a brief conversation (share what you’re reading/introduce yourself) and then settle in for two hours of cozy\, distraction-free reading. \nThe Teen Space main doors will be closed\, so enter through the side door near the Young Adult book display wall. \nSupported by Ames Public Library Friends Foundation.
URL:https://calendar.amesart.org/event/teen-silent-book-club-ames-public-library-2/2026-04-03/
LOCATION:Ames Public Library\, 515 Douglas Ave\, Ames\, IA\, 50010\, United States
ATTACH;FMTTYPE=image/png:https://calendar.amesart.org/wp-content/uploads/2026/01/TeenSilentBookClub-2025-FB-INSTAGRAM-02.png
END:VEVENT
BEGIN:VEVENT
DTSTART;TZID=America/Chicago:20260403T190000
DTEND;TZID=America/Chicago:20260403T190000
DTSTAMP:20260421T092229
CREATED:20260120T004012Z
LAST-MODIFIED:20260120T004012Z
UID:10003063-1775242800-1775242800@calendar.amesart.org
SUMMARY:Cyclone Cinema: One Battle After Another – ISU Student Union Board
DESCRIPTION:When their evil enemy resurfaces after 16 years\, a group of ex-revolutionaries reunite to rescue the daughter of one of their own. \n2025 | R | 2hr 41min \n \nAll Cyclone Cinema showings start at 7:00pm. Sunday film screenings will be in open caption format. All other screenings can be open caption as long as the request is made to the staff before the movie starts. \n 
URL:https://calendar.amesart.org/event/cyclone-cinema-one-battle-after-another-isu-student-union-board/2026-04-03/
LOCATION:Carver Hall\, Room 0101\, 411 Morrill Rd\, Ames\, IA 50011\, Ames\, IA\, 50011\, United States
ATTACH;FMTTYPE=image/png:https://calendar.amesart.org/wp-content/uploads/2026/01/CycloneCinema_S26_MUDD_V19.png
END:VEVENT
BEGIN:VEVENT
DTSTART;TZID=America/Chicago:20260403T193000
DTEND;TZID=America/Chicago:20260403T193000
DTSTAMP:20260421T092229
CREATED:20251229T235903Z
LAST-MODIFIED:20251229T235903Z
UID:10002531-1775244600-1775244600@calendar.amesart.org
SUMMARY:Over the River and Through the Woods (ACTORS)
DESCRIPTION:Over the River and Through the Woods\nby Joe DiPietro\nThe 3 Fs of Live:  Family\, Faith\, Food\nA furiously funny and touching story about intergenerational relationships\, deep familial love\, and the inevitable little heart breaks that occur as time passes and children grow.  Tengo famiglia!  (I’m a family man.) \nOver the River and Through the Woods is presented by special arrangement with Broadway Licensing LLC. Servicing Dramatists Play Service.  www.dramatists.com \nTickets available online or at The Octagon Shop\, 427 Douglas\, Downtown Ames
URL:https://calendar.amesart.org/event/over-the-river-and-through-the-woods-actors/2026-04-03/
LOCATION:IA
ATTACH;FMTTYPE=image/jpeg:https://calendar.amesart.org/wp-content/uploads/2025/12/Over_the_River_and_Through_the_Wood_ACTORS.jpg
ORGANIZER;CN="Ames Community Theater":MAILTO:info@actorsinc.org
END:VEVENT
END:VCALENDAR