BEGIN:VCALENDAR
VERSION:2.0
PRODID:-//Ames Community Arts Council - ECPv6.15.1.1//NONSGML v1.0//EN
CALSCALE:GREGORIAN
METHOD:PUBLISH
X-WR-CALNAME:Ames Community Arts Council
X-ORIGINAL-URL:https://calendar.amesart.org
X-WR-CALDESC:Events for Ames Community Arts Council
REFRESH-INTERVAL;VALUE=DURATION:PT1H
X-Robots-Tag:noindex
X-PUBLISHED-TTL:PT1H
BEGIN:VTIMEZONE
TZID:America/Chicago
BEGIN:DAYLIGHT
TZOFFSETFROM:-0600
TZOFFSETTO:-0500
TZNAME:CDT
DTSTART:20260308T080000
END:DAYLIGHT
BEGIN:STANDARD
TZOFFSETFROM:-0500
TZOFFSETTO:-0600
TZNAME:CST
DTSTART:20261101T070000
END:STANDARD
END:VTIMEZONE
BEGIN:VEVENT
DTSTART;TZID=America/Chicago:20260426T100000
DTEND;TZID=America/Chicago:20260426T140000
DTSTAMP:20260423T131809
CREATED:20260412T150019Z
LAST-MODIFIED:20260412T150019Z
UID:10005214-1777197600-1777212000@calendar.amesart.org
SUMMARY:BLUE\, Quilted Artworks - Green Hills Art Gallery
DESCRIPTION:Visit the Green Hills Art Gallery to see BLUE\, Quilted Artworks by Central Iowa Textile Artists. \nAll the pieces are done in a variety of blues. \nThe exhibit will be on display in the Green Hills Art Gallery until Tues.\, May 12. \nHours: Mon. – Fri.\,  8 a.m. to 6:30 p.m.; Sat. –  Sun.\, 10 a.m. to 2 p.m. \nImage: “Cascade” by Carolyn Abbott \n2205 Green Hills Dr.\nAmes\, Iowa 50014 \n515-316-6775
URL:https://calendar.amesart.org/event/blue-quilted-artworks-green-hills-art-gallery-2/2026-04-26/
LOCATION:Green Hills Art Gallery\, 2205 Green Hills Dr.\, Ames\, IA\, 50014\, United States
ATTACH;FMTTYPE=image/png:https://calendar.amesart.org/wp-content/uploads/2026/04/Blue-image.png
END:VEVENT
BEGIN:VEVENT
DTSTART;TZID=America/Chicago:20260426T140000
DTEND;TZID=America/Chicago:20260426T160000
DTSTAMP:20260423T131809
CREATED:20251103T033330Z
LAST-MODIFIED:20251103T035909Z
UID:10001339-1777212000-1777219200@calendar.amesart.org
SUMMARY:Pokémon Club - Ames Public Library
DESCRIPTION:Calling all school-aged Poké-Kids! Come learn how to play the Pokémon Trading Card Game and use a Library-supplied deck to battle other players. You can bring your decks to talk and strategize with other players\, but card trading will not be allowed. Don’t want to play? Come to watch others\, enjoy Poké-art activities\, chat with other kids\, and build a supportive community of friends! Farwell T. Brown Auditorium \nKids ages 8 and under need to bring a caregiver along to help. Caregivers: not sure what Pokémon is all about? This is a great opportunity to learn along with your kids! \nSupported by Ames Public Library Friends Foundation.
URL:https://calendar.amesart.org/event/pokemon-club-ames-public-library/2026-04-26/
LOCATION:Ames Public Library\, 515 Douglas Ave\, Ames\, IA\, 50010\, United States
ATTACH;FMTTYPE=image/png:https://calendar.amesart.org/wp-content/uploads/2025/11/PokemonClub-2023-02-14-INSTAGRAM.png
END:VEVENT
BEGIN:VEVENT
DTSTART;TZID=America/Chicago:20260426T190000
DTEND;TZID=America/Chicago:20260426T190000
DTSTAMP:20260423T131809
CREATED:20260120T004505Z
LAST-MODIFIED:20260120T004505Z
UID:10003089-1777230000-1777230000@calendar.amesart.org
SUMMARY:Cyclone Cinema: The SpongeBob Movie: Search for SquarePants – ISU Student Union Board
DESCRIPTION:Desperate to be a big guy\, SpongeBob sets out to prove his bravery to Mr. Krabs by following the Flying Dutchman\, a mysterious swashbuckling ghost pirate\, to the deepest depths of the deep sea. \n2025 | PG | 1hr 28min \n \nAll Cyclone Cinema showings start at 7:00pm. Sunday film screenings will be in open caption format. All other screenings can be open caption as long as the request is made to the staff before the movie starts. \n  \n 
URL:https://calendar.amesart.org/event/cyclone-cinema-the-spongebob-movie-search-for-squarepants-isu-student-union-board/2026-04-26/
LOCATION:Carver Hall\, Room 0101\, 411 Morrill Rd\, Ames\, IA 50011\, Ames\, IA\, 50011\, United States
ATTACH;FMTTYPE=image/png:https://calendar.amesart.org/wp-content/uploads/2026/01/CycloneCinema_S26_MUDD_V112.png
END:VEVENT
BEGIN:VEVENT
DTSTART;TZID=America/Chicago:20260426T190000
DTEND;TZID=America/Chicago:20260426T190000
DTSTAMP:20260423T131809
CREATED:20260422T031844Z
LAST-MODIFIED:20260422T032124Z
UID:10005377-1777230000-1777230000@calendar.amesart.org
SUMMARY:The Nature of Happiness - Good Company Ames Women's Choir
DESCRIPTION:Join Good Company for “The Nature of Happiness”  \nThe Nature of Happiness\, an uplifting evening of choral music that explores the many shades of joy\, connection\, and hope. Through a vibrant program of expressive and inspiring works\, our choir invites you to pause\, listen\, and experience the moments of happiness that music can bring. \nThis concert will also feature a special highlight: the world premiere of five new choral works by our collaborative pianist\, Peter Roberts. We are thrilled to bring these original compositions to life for the very first time and to share them with our community. \nCome celebrate the beauty of music\, the excitement of new creations\, and the simple joy of singing together. \nBring your friends\, family\, and neighbors – all are welcome as we come together through the universal language of song. \nTickets are free for children 12 and under. \nOr\, purchase a YouTube Livestream concert here. $20 \nGood Company is supported in part by a grant from the Ames Commission on the Arts.
URL:https://calendar.amesart.org/event/the-nature-of-happiness-good-company-ames-womens-choir/
LOCATION:St. Andrew’s Lutheran Church\, 209 Colorado Ave\, Ames\, IA\, 50014\, United States
ATTACH;FMTTYPE=image/jpeg:https://calendar.amesart.org/wp-content/uploads/2026/04/Good-Company-not-sized.jpg
END:VEVENT
BEGIN:VEVENT
DTSTART;TZID=America/Chicago:20260426T193000
DTEND;TZID=America/Chicago:20260426T193000
DTSTAMP:20260423T131809
CREATED:20260418T182804Z
LAST-MODIFIED:20260418T182804Z
UID:10005219-1777231800-1777231800@calendar.amesart.org
SUMMARY:DJ Johnny & the BPM to Perform Live at the M-Shop
DESCRIPTION:DJ Johnny & the BPM will present a high-energy live performance on Sun.\, April 26 at 7:30 p.m. at the Maintenance Shop in the Iowa State Memorial Union. \nThe concert will feature original brass arrangements of popular songs\, including “Mr. Brightside\,” “High Hopes\,” “You Can Call Me Al\,” and more. Blending elements of pop\, rock\, and jazz\, the performance highlights the band’s signature sound and dynamic approach to live music. \nThe music for this concert began with the goal of securing licensing rights to arrange and perform popular music. Over the past six months\, the band carefully selected and arranged songs that resonated with its members\, reflected audience favorites\, and translated effectively to a brass band setting. \nThe performance is free and open to the public. Doors open at 7 p.m.\, and the performance runs approximately one hour. Complimentary popcorn and soda will be available. \nThis event is part of Focus\, an organization that grants funds for the support and presentation of new work in visual art\, apparel design\, writing\, theater\, dance\, and musical performance. Funding for Focus is made possible through Iowa State’s Student Government\, and awards are determined by a committee of students\, faculty\, and staff representing a broad range of the arts. \nThe Memorial Union is located at 2229 Lincoln Way in Ames on the ISU campus\, and paid parking is available in the ramp adjacent to the building. \nAbout DJ Johnny & the BPM DJ Johnny & the BPM is a funk brass band based in Ames\, Iowa. Founded as a small ensemble performing pop hits for the Iowa State University community\, the group has grown into a dynamic performing act known for its high-energy performances and creative arrangements. \nThe band has performed at a variety of high-profile events\, including Iowa State President David Cook’s inauguration reception\, the Cardinal and Gold Gala hosted by the Iowa State Alumni Association\, the Department of Music and Theatre Convocation\, as well as numerous performances throughout the Ames area. \nCommitted to musical excellence across a wide range of genres\, the ensemble regularly creates original arrangements tailored to its instrumentation and performers\, showcasing both its versatility and the individual talents of its members.
URL:https://calendar.amesart.org/event/dj-johnny-the-bpm-to-perform-live-at-the-m-shop/
LOCATION:ISU Memorial Union-Maintenance Shop\, 2229 Lincoln Way\, Ames\, IA\, 50011\, United States
ATTACH;FMTTYPE=image/jpeg:https://calendar.amesart.org/wp-content/uploads/2026/04/DJ-Johnny.jpg
ORGANIZER;CN="The Workspace":MAILTO:workspace@iastate.edu
END:VEVENT
END:VCALENDAR