BEGIN:VCALENDAR
VERSION:2.0
PRODID:-//Ames Community Arts Council - ECPv6.15.1.1//NONSGML v1.0//EN
CALSCALE:GREGORIAN
METHOD:PUBLISH
X-ORIGINAL-URL:https://calendar.amesart.org
X-WR-CALDESC:Events for Ames Community Arts Council
REFRESH-INTERVAL;VALUE=DURATION:PT1H
X-Robots-Tag:noindex
X-PUBLISHED-TTL:PT1H
BEGIN:VTIMEZONE
TZID:America/Chicago
BEGIN:DAYLIGHT
TZOFFSETFROM:-0600
TZOFFSETTO:-0500
TZNAME:CDT
DTSTART:20260308T080000
END:DAYLIGHT
BEGIN:STANDARD
TZOFFSETFROM:-0500
TZOFFSETTO:-0600
TZNAME:CST
DTSTART:20261101T070000
END:STANDARD
END:VTIMEZONE
BEGIN:VEVENT
DTSTART;TZID=America/Chicago:20260314T150000
DTEND;TZID=America/Chicago:20260314T160000
DTSTAMP:20260423T113851
CREATED:20260302T201211Z
LAST-MODIFIED:20260302T201211Z
UID:10004793-1773500400-1773504000@calendar.amesart.org
SUMMARY:DMMO presents The Billy Goats Gruff - Ames Public Library
DESCRIPTION:All ages are welcome to attend Des Moines Metro Opera’s free performance at the Library of The Billy Goats Gruff. \nThe show takes a familiar tale and adds a fun operatic twist with a strong anti-bullying message. On the way home from school\, three little billy goats encounter a steep bridge\, a mean troll and a sticky situation that they must try to solve—and all set to some of the greatest classical music by Mozart\, Rossini and Donizetti! \nPresented in partnership with Ames Public Library and the Ames Chapter of the Des Moines Metro Opera Guild. Supported by the Ames Public Library Friends Foundation.
URL:https://calendar.amesart.org/event/dmmo-presents-the-billy-goats-gruff-ames-public-library/
LOCATION:Ames Public Library\, 515 Douglas Ave\, Ames\, IA\, 50010\, United States
ATTACH;FMTTYPE=image/png:https://calendar.amesart.org/wp-content/uploads/2026/03/Goats-Ames-Library.png
END:VEVENT
END:VCALENDAR