BEGIN:VCALENDAR
VERSION:2.0
PRODID:-//Ames Community Arts Council - ECPv6.15.1.1//NONSGML v1.0//EN
CALSCALE:GREGORIAN
METHOD:PUBLISH
X-WR-CALNAME:Ames Community Arts Council
X-ORIGINAL-URL:https://calendar.amesart.org
X-WR-CALDESC:Events for Ames Community Arts Council
REFRESH-INTERVAL;VALUE=DURATION:PT1H
X-Robots-Tag:noindex
X-PUBLISHED-TTL:PT1H
BEGIN:VTIMEZONE
TZID:America/Chicago
BEGIN:DAYLIGHT
TZOFFSETFROM:-0600
TZOFFSETTO:-0500
TZNAME:CDT
DTSTART:20260308T080000
END:DAYLIGHT
BEGIN:STANDARD
TZOFFSETFROM:-0500
TZOFFSETTO:-0600
TZNAME:CST
DTSTART:20261101T070000
END:STANDARD
END:VTIMEZONE
BEGIN:VEVENT
DTSTART;TZID=America/Chicago:20260320T160000
DTEND;TZID=America/Chicago:20260320T170000
DTSTAMP:20260422T095211
CREATED:20260302T203658Z
LAST-MODIFIED:20260302T203658Z
UID:10004797-1774022400-1774026000@calendar.amesart.org
SUMMARY:Teen Book vs. Movie: Book Club - Ames Public Library
DESCRIPTION:Hey teens\, take a front row seat in the ultimate showdown: book vs. movie! \nEvery month\, we’ll feature a teen book that’s been made into a movie. Come to the book club to chat about the book and eat snacks. OR come to movie night to watch the movie version and eat snacks. OR\, come to both! \nStop by the Teen Space or Youth Services Desk to let us know if you need a copy of the next book. \nThis Month: White Bird: A Wonder Story (graphic novel) by R. J. Palacio and the 2023 movie (MPAA rating PG-13) \nSupported by the Ames Public Library Friends Foundation.
URL:https://calendar.amesart.org/event/teen-book-vs-movie-book-club-ames-public-library-4/
LOCATION:Ames Public Library\, 515 Douglas Ave\, Ames\, IA\, 50010\, United States
ATTACH;FMTTYPE=image/png:https://calendar.amesart.org/wp-content/uploads/2026/01/TeenBookVsMovie-2025-FB-INSTAGRAM-02_0.png
END:VEVENT
END:VCALENDAR