BEGIN:VCALENDAR
VERSION:2.0
PRODID:-//Ames Community Arts Council - ECPv6.15.1.1//NONSGML v1.0//EN
CALSCALE:GREGORIAN
METHOD:PUBLISH
X-WR-CALNAME:Ames Community Arts Council
X-ORIGINAL-URL:https://calendar.amesart.org
X-WR-CALDESC:Events for Ames Community Arts Council
REFRESH-INTERVAL;VALUE=DURATION:PT1H
X-Robots-Tag:noindex
X-PUBLISHED-TTL:PT1H
BEGIN:VTIMEZONE
TZID:America/Chicago
BEGIN:DAYLIGHT
TZOFFSETFROM:-0600
TZOFFSETTO:-0500
TZNAME:CDT
DTSTART:20250309T080000
END:DAYLIGHT
BEGIN:STANDARD
TZOFFSETFROM:-0500
TZOFFSETTO:-0600
TZNAME:CST
DTSTART:20251102T070000
END:STANDARD
END:VTIMEZONE
BEGIN:VEVENT
DTSTART;TZID=America/Chicago:20250427T190000
DTEND;TZID=America/Chicago:20250427T210000
DTSTAMP:20260421T004020
CREATED:20250220T194522Z
LAST-MODIFIED:20250220T194522Z
UID:10000136-1745780400-1745787600@calendar.amesart.org
SUMMARY:Spring Concert - Ames Choral Society
DESCRIPTION:Celebrate the Ames Choral Society’s 60th Season! Enjoy past selections and new favorites. Join them at 7 p.m.\, St. Andrew’s Lutheran Church\, 209 Colorado Ave.\, Ames. \nTickets are $15 for adults\, $5 for youth ages 5-12\, and free for those under age 5\, and may be obtained from ACS members\, online at ameschoral.org\, or at the door.
URL:https://calendar.amesart.org/event/spring-concert-ames-choral-society/
END:VEVENT
END:VCALENDAR