BEGIN:VCALENDAR
VERSION:2.0
PRODID:-//Ames Community Arts Council - ECPv6.15.1.1//NONSGML v1.0//EN
CALSCALE:GREGORIAN
METHOD:PUBLISH
X-ORIGINAL-URL:https://calendar.amesart.org
X-WR-CALDESC:Events for Ames Community Arts Council
REFRESH-INTERVAL;VALUE=DURATION:PT1H
X-Robots-Tag:noindex
X-PUBLISHED-TTL:PT1H
BEGIN:VTIMEZONE
TZID:America/Chicago
BEGIN:DAYLIGHT
TZOFFSETFROM:-0600
TZOFFSETTO:-0500
TZNAME:CDT
DTSTART:20250309T080000
END:DAYLIGHT
BEGIN:STANDARD
TZOFFSETFROM:-0500
TZOFFSETTO:-0600
TZNAME:CST
DTSTART:20251102T070000
END:STANDARD
END:VTIMEZONE
BEGIN:VEVENT
DTSTART;TZID=America/Chicago:20250914T150000
DTEND;TZID=America/Chicago:20250914T163000
DTSTAMP:20260419T101404
CREATED:20250820T173120Z
LAST-MODIFIED:20250820T173120Z
UID:10000292-1757862000-1757867400@calendar.amesart.org
SUMMARY:Faculty Fanfare Concert: September 14\, 2025
DESCRIPTION:Faculty Fanfare Concert: September 14\, 2025\nISU Department of Music and Theatre kick off the academic year with performance\, fun and fellowship. \nThis concert will have a livestream.
URL:https://calendar.amesart.org/event/faculty-fanfare-concert-september-14-2025/
LOCATION:Martha-Ellen Tye Recital Hall\, ISU\, 300 Union Dr\, Ames\, IA\, 50014\, United States
ATTACH;FMTTYPE=image/jpeg:https://calendar.amesart.org/wp-content/uploads/2025/08/faculty-fanfare.jpg
END:VEVENT
END:VCALENDAR