BEGIN:VCALENDAR
VERSION:2.0
PRODID:-//Ames Community Arts Council - ECPv6.15.1.1//NONSGML v1.0//EN
CALSCALE:GREGORIAN
METHOD:PUBLISH
X-ORIGINAL-URL:https://calendar.amesart.org
X-WR-CALDESC:Events for Ames Community Arts Council
REFRESH-INTERVAL;VALUE=DURATION:PT1H
X-Robots-Tag:noindex
X-PUBLISHED-TTL:PT1H
BEGIN:VTIMEZONE
TZID:America/Chicago
BEGIN:DAYLIGHT
TZOFFSETFROM:-0600
TZOFFSETTO:-0500
TZNAME:CDT
DTSTART:20260308T080000
END:DAYLIGHT
BEGIN:STANDARD
TZOFFSETFROM:-0500
TZOFFSETTO:-0600
TZNAME:CST
DTSTART:20261101T070000
END:STANDARD
END:VTIMEZONE
BEGIN:VEVENT
DTSTART;TZID=America/Chicago:20260130T100000
DTEND;TZID=America/Chicago:20260130T180000
DTSTAMP:20260420T074502
CREATED:20260118T175505Z
LAST-MODIFIED:20260119T221323Z
UID:10002558-1769767200-1769796000@calendar.amesart.org
SUMMARY:Poster Sale at the Iowa State Memorial Union - ISU Memorial Union Workspace
DESCRIPTION:The Memorial Union will host the annual winter Poster Sale Jan. 26 through 30\, 2026\, in the Campanile Room on the 2nd floor. The sale will be open daily from 10 a.m. to 6 p.m. \nFind an extensive collection of imagery\, ranging from timeless classic posters to fresh-off-the-press artist prints. Other items include postcards\, tapestries\, and poster hanging supplies. Shoppers will find hundreds of choices\, perfect for transforming any space. Prices for the posters range from $9 to $16\, making it an affordable way to enhance your decor while benefiting the arts on campus – proceeds from the sale directly support the Memorial Union Art Gallery. \nThis event is open to the public. The Memorial Union is located at 2229 Lincoln Way on the Iowa State University campus in Ames. Paid parking is available in the ramp adjacent to the building.
URL:https://calendar.amesart.org/event/poster-sale-at-the-iowa-state-memorial-union-isu-memorial-union-workspace/2026-01-30/
LOCATION:Campanile Room\, 2229 Lincoln Way\, Ames\, IA\, 50010\, United States
ATTACH;FMTTYPE=image/jpeg:https://calendar.amesart.org/wp-content/uploads/2026/01/Doechii-Alligator.jpg
ORGANIZER;CN="The Workspace":MAILTO:workspace@iastate.edu
END:VEVENT
BEGIN:VEVENT
DTSTART;TZID=America/Chicago:20260129T100000
DTEND;TZID=America/Chicago:20260129T180000
DTSTAMP:20260420T074502
CREATED:20260118T175505Z
LAST-MODIFIED:20260119T221323Z
UID:10002557-1769680800-1769709600@calendar.amesart.org
SUMMARY:Poster Sale at the Iowa State Memorial Union - ISU Memorial Union Workspace
DESCRIPTION:The Memorial Union will host the annual winter Poster Sale Jan. 26 through 30\, 2026\, in the Campanile Room on the 2nd floor. The sale will be open daily from 10 a.m. to 6 p.m. \nFind an extensive collection of imagery\, ranging from timeless classic posters to fresh-off-the-press artist prints. Other items include postcards\, tapestries\, and poster hanging supplies. Shoppers will find hundreds of choices\, perfect for transforming any space. Prices for the posters range from $9 to $16\, making it an affordable way to enhance your decor while benefiting the arts on campus – proceeds from the sale directly support the Memorial Union Art Gallery. \nThis event is open to the public. The Memorial Union is located at 2229 Lincoln Way on the Iowa State University campus in Ames. Paid parking is available in the ramp adjacent to the building.
URL:https://calendar.amesart.org/event/poster-sale-at-the-iowa-state-memorial-union-isu-memorial-union-workspace/2026-01-29/
LOCATION:Campanile Room\, 2229 Lincoln Way\, Ames\, IA\, 50010\, United States
ATTACH;FMTTYPE=image/jpeg:https://calendar.amesart.org/wp-content/uploads/2026/01/Doechii-Alligator.jpg
ORGANIZER;CN="The Workspace":MAILTO:workspace@iastate.edu
END:VEVENT
BEGIN:VEVENT
DTSTART;TZID=America/Chicago:20260128T100000
DTEND;TZID=America/Chicago:20260128T180000
DTSTAMP:20260420T074502
CREATED:20260118T175505Z
LAST-MODIFIED:20260119T221323Z
UID:10002556-1769594400-1769623200@calendar.amesart.org
SUMMARY:Poster Sale at the Iowa State Memorial Union - ISU Memorial Union Workspace
DESCRIPTION:The Memorial Union will host the annual winter Poster Sale Jan. 26 through 30\, 2026\, in the Campanile Room on the 2nd floor. The sale will be open daily from 10 a.m. to 6 p.m. \nFind an extensive collection of imagery\, ranging from timeless classic posters to fresh-off-the-press artist prints. Other items include postcards\, tapestries\, and poster hanging supplies. Shoppers will find hundreds of choices\, perfect for transforming any space. Prices for the posters range from $9 to $16\, making it an affordable way to enhance your decor while benefiting the arts on campus – proceeds from the sale directly support the Memorial Union Art Gallery. \nThis event is open to the public. The Memorial Union is located at 2229 Lincoln Way on the Iowa State University campus in Ames. Paid parking is available in the ramp adjacent to the building.
URL:https://calendar.amesart.org/event/poster-sale-at-the-iowa-state-memorial-union-isu-memorial-union-workspace/2026-01-28/
LOCATION:Campanile Room\, 2229 Lincoln Way\, Ames\, IA\, 50010\, United States
ATTACH;FMTTYPE=image/jpeg:https://calendar.amesart.org/wp-content/uploads/2026/01/Doechii-Alligator.jpg
ORGANIZER;CN="The Workspace":MAILTO:workspace@iastate.edu
END:VEVENT
BEGIN:VEVENT
DTSTART;TZID=America/Chicago:20260127T100000
DTEND;TZID=America/Chicago:20260127T180000
DTSTAMP:20260420T074502
CREATED:20260118T175505Z
LAST-MODIFIED:20260119T221323Z
UID:10002555-1769508000-1769536800@calendar.amesart.org
SUMMARY:Poster Sale at the Iowa State Memorial Union - ISU Memorial Union Workspace
DESCRIPTION:The Memorial Union will host the annual winter Poster Sale Jan. 26 through 30\, 2026\, in the Campanile Room on the 2nd floor. The sale will be open daily from 10 a.m. to 6 p.m. \nFind an extensive collection of imagery\, ranging from timeless classic posters to fresh-off-the-press artist prints. Other items include postcards\, tapestries\, and poster hanging supplies. Shoppers will find hundreds of choices\, perfect for transforming any space. Prices for the posters range from $9 to $16\, making it an affordable way to enhance your decor while benefiting the arts on campus – proceeds from the sale directly support the Memorial Union Art Gallery. \nThis event is open to the public. The Memorial Union is located at 2229 Lincoln Way on the Iowa State University campus in Ames. Paid parking is available in the ramp adjacent to the building.
URL:https://calendar.amesart.org/event/poster-sale-at-the-iowa-state-memorial-union-isu-memorial-union-workspace/2026-01-27/
LOCATION:Campanile Room\, 2229 Lincoln Way\, Ames\, IA\, 50010\, United States
ATTACH;FMTTYPE=image/jpeg:https://calendar.amesart.org/wp-content/uploads/2026/01/Doechii-Alligator.jpg
ORGANIZER;CN="The Workspace":MAILTO:workspace@iastate.edu
END:VEVENT
BEGIN:VEVENT
DTSTART;TZID=America/Chicago:20260126T100000
DTEND;TZID=America/Chicago:20260126T180000
DTSTAMP:20260420T074502
CREATED:20260118T175505Z
LAST-MODIFIED:20260119T221323Z
UID:10002554-1769421600-1769450400@calendar.amesart.org
SUMMARY:Poster Sale at the Iowa State Memorial Union - ISU Memorial Union Workspace
DESCRIPTION:The Memorial Union will host the annual winter Poster Sale Jan. 26 through 30\, 2026\, in the Campanile Room on the 2nd floor. The sale will be open daily from 10 a.m. to 6 p.m. \nFind an extensive collection of imagery\, ranging from timeless classic posters to fresh-off-the-press artist prints. Other items include postcards\, tapestries\, and poster hanging supplies. Shoppers will find hundreds of choices\, perfect for transforming any space. Prices for the posters range from $9 to $16\, making it an affordable way to enhance your decor while benefiting the arts on campus – proceeds from the sale directly support the Memorial Union Art Gallery. \nThis event is open to the public. The Memorial Union is located at 2229 Lincoln Way on the Iowa State University campus in Ames. Paid parking is available in the ramp adjacent to the building.
URL:https://calendar.amesart.org/event/poster-sale-at-the-iowa-state-memorial-union-isu-memorial-union-workspace/2026-01-26/
LOCATION:Campanile Room\, 2229 Lincoln Way\, Ames\, IA\, 50010\, United States
ATTACH;FMTTYPE=image/jpeg:https://calendar.amesart.org/wp-content/uploads/2026/01/Doechii-Alligator.jpg
ORGANIZER;CN="The Workspace":MAILTO:workspace@iastate.edu
END:VEVENT
END:VCALENDAR