BEGIN:VCALENDAR
VERSION:2.0
PRODID:-//Ames Community Arts Council - ECPv6.15.1.1//NONSGML v1.0//EN
CALSCALE:GREGORIAN
METHOD:PUBLISH
X-WR-CALNAME:Ames Community Arts Council
X-ORIGINAL-URL:https://calendar.amesart.org
X-WR-CALDESC:Events for Ames Community Arts Council
REFRESH-INTERVAL;VALUE=DURATION:PT1H
X-Robots-Tag:noindex
X-PUBLISHED-TTL:PT1H
BEGIN:VTIMEZONE
TZID:America/Chicago
BEGIN:DAYLIGHT
TZOFFSETFROM:-0600
TZOFFSETTO:-0500
TZNAME:CDT
DTSTART:20250309T080000
END:DAYLIGHT
BEGIN:STANDARD
TZOFFSETFROM:-0500
TZOFFSETTO:-0600
TZNAME:CST
DTSTART:20251102T070000
END:STANDARD
BEGIN:DAYLIGHT
TZOFFSETFROM:-0600
TZOFFSETTO:-0500
TZNAME:CDT
DTSTART:20260308T080000
END:DAYLIGHT
BEGIN:STANDARD
TZOFFSETFROM:-0500
TZOFFSETTO:-0600
TZNAME:CST
DTSTART:20261101T070000
END:STANDARD
END:VTIMEZONE
BEGIN:VEVENT
DTSTART;TZID=America/Chicago:20260421T080000
DTEND;TZID=America/Chicago:20260421T183000
DTSTAMP:20260421T203421
CREATED:20260412T143740Z
LAST-MODIFIED:20260412T144228Z
UID:10005195-1776758400-1776796200@calendar.amesart.org
SUMMARY:BLUE\, Quilted Artworks - Green Hills Art Gallery
DESCRIPTION:Visit the Green Hills Art Gallery to see BLUE\, Quilted Artworks by Central Iowa Textile Artists. \nAll the pieces are done in a variety of blues. \nThe exhibit will be on display in the Green Hills Art Gallery until Tues.\, May 12. \nHours: Mon. – Fri.\,  8 a.m. to 6:30 p.m.; Sat. –  Sun.\, 10 a.m. to 2 p.m. \nImage: “Cascade” by Carolyn Abbott \n2205 Green Hills Dr.\nAmes\, Iowa 50014 \n515-316-6775
URL:https://calendar.amesart.org/event/blue-quilted-artworks-green-hills-art-gallery/2026-04-21/
LOCATION:Green Hills Art Gallery\, 2205 Green Hills Dr.\, Ames\, IA\, 50014\, United States
ATTACH;FMTTYPE=image/png:https://calendar.amesart.org/wp-content/uploads/2026/04/Blue-image.png
END:VEVENT
BEGIN:VEVENT
DTSTART;TZID=America/Chicago:20260420T080000
DTEND;TZID=America/Chicago:20260420T183000
DTSTAMP:20260421T203421
CREATED:20260412T143740Z
LAST-MODIFIED:20260412T144228Z
UID:10005194-1776672000-1776709800@calendar.amesart.org
SUMMARY:BLUE\, Quilted Artworks - Green Hills Art Gallery
DESCRIPTION:Visit the Green Hills Art Gallery to see BLUE\, Quilted Artworks by Central Iowa Textile Artists. \nAll the pieces are done in a variety of blues. \nThe exhibit will be on display in the Green Hills Art Gallery until Tues.\, May 12. \nHours: Mon. – Fri.\,  8 a.m. to 6:30 p.m.; Sat. –  Sun.\, 10 a.m. to 2 p.m. \nImage: “Cascade” by Carolyn Abbott \n2205 Green Hills Dr.\nAmes\, Iowa 50014 \n515-316-6775
URL:https://calendar.amesart.org/event/blue-quilted-artworks-green-hills-art-gallery/2026-04-20/
LOCATION:Green Hills Art Gallery\, 2205 Green Hills Dr.\, Ames\, IA\, 50014\, United States
ATTACH;FMTTYPE=image/png:https://calendar.amesart.org/wp-content/uploads/2026/04/Blue-image.png
END:VEVENT
BEGIN:VEVENT
DTSTART;TZID=America/Chicago:20260419T100000
DTEND;TZID=America/Chicago:20260419T140000
DTSTAMP:20260421T203421
CREATED:20260412T150019Z
LAST-MODIFIED:20260412T150019Z
UID:10005212-1776592800-1776607200@calendar.amesart.org
SUMMARY:BLUE\, Quilted Artworks - Green Hills Art Gallery
DESCRIPTION:Visit the Green Hills Art Gallery to see BLUE\, Quilted Artworks by Central Iowa Textile Artists. \nAll the pieces are done in a variety of blues. \nThe exhibit will be on display in the Green Hills Art Gallery until Tues.\, May 12. \nHours: Mon. – Fri.\,  8 a.m. to 6:30 p.m.; Sat. –  Sun.\, 10 a.m. to 2 p.m. \nImage: “Cascade” by Carolyn Abbott \n2205 Green Hills Dr.\nAmes\, Iowa 50014 \n515-316-6775
URL:https://calendar.amesart.org/event/blue-quilted-artworks-green-hills-art-gallery-2/2026-04-19/
LOCATION:Green Hills Art Gallery\, 2205 Green Hills Dr.\, Ames\, IA\, 50014\, United States
ATTACH;FMTTYPE=image/png:https://calendar.amesart.org/wp-content/uploads/2026/04/Blue-image.png
END:VEVENT
BEGIN:VEVENT
DTSTART;TZID=America/Chicago:20260418T100000
DTEND;TZID=America/Chicago:20260418T140000
DTSTAMP:20260421T203421
CREATED:20260412T150019Z
LAST-MODIFIED:20260412T150019Z
UID:10005211-1776506400-1776520800@calendar.amesart.org
SUMMARY:BLUE\, Quilted Artworks - Green Hills Art Gallery
DESCRIPTION:Visit the Green Hills Art Gallery to see BLUE\, Quilted Artworks by Central Iowa Textile Artists. \nAll the pieces are done in a variety of blues. \nThe exhibit will be on display in the Green Hills Art Gallery until Tues.\, May 12. \nHours: Mon. – Fri.\,  8 a.m. to 6:30 p.m.; Sat. –  Sun.\, 10 a.m. to 2 p.m. \nImage: “Cascade” by Carolyn Abbott \n2205 Green Hills Dr.\nAmes\, Iowa 50014 \n515-316-6775
URL:https://calendar.amesart.org/event/blue-quilted-artworks-green-hills-art-gallery-2/2026-04-18/
LOCATION:Green Hills Art Gallery\, 2205 Green Hills Dr.\, Ames\, IA\, 50014\, United States
ATTACH;FMTTYPE=image/png:https://calendar.amesart.org/wp-content/uploads/2026/04/Blue-image.png
END:VEVENT
BEGIN:VEVENT
DTSTART;TZID=America/Chicago:20260417T080000
DTEND;TZID=America/Chicago:20260417T183000
DTSTAMP:20260421T203421
CREATED:20260412T143740Z
LAST-MODIFIED:20260412T144228Z
UID:10005193-1776412800-1776450600@calendar.amesart.org
SUMMARY:BLUE\, Quilted Artworks - Green Hills Art Gallery
DESCRIPTION:Visit the Green Hills Art Gallery to see BLUE\, Quilted Artworks by Central Iowa Textile Artists. \nAll the pieces are done in a variety of blues. \nThe exhibit will be on display in the Green Hills Art Gallery until Tues.\, May 12. \nHours: Mon. – Fri.\,  8 a.m. to 6:30 p.m.; Sat. –  Sun.\, 10 a.m. to 2 p.m. \nImage: “Cascade” by Carolyn Abbott \n2205 Green Hills Dr.\nAmes\, Iowa 50014 \n515-316-6775
URL:https://calendar.amesart.org/event/blue-quilted-artworks-green-hills-art-gallery/2026-04-17/
LOCATION:Green Hills Art Gallery\, 2205 Green Hills Dr.\, Ames\, IA\, 50014\, United States
ATTACH;FMTTYPE=image/png:https://calendar.amesart.org/wp-content/uploads/2026/04/Blue-image.png
END:VEVENT
BEGIN:VEVENT
DTSTART;TZID=America/Chicago:20260416T080000
DTEND;TZID=America/Chicago:20260416T183000
DTSTAMP:20260421T203421
CREATED:20260412T143740Z
LAST-MODIFIED:20260412T144228Z
UID:10005192-1776326400-1776364200@calendar.amesart.org
SUMMARY:BLUE\, Quilted Artworks - Green Hills Art Gallery
DESCRIPTION:Visit the Green Hills Art Gallery to see BLUE\, Quilted Artworks by Central Iowa Textile Artists. \nAll the pieces are done in a variety of blues. \nThe exhibit will be on display in the Green Hills Art Gallery until Tues.\, May 12. \nHours: Mon. – Fri.\,  8 a.m. to 6:30 p.m.; Sat. –  Sun.\, 10 a.m. to 2 p.m. \nImage: “Cascade” by Carolyn Abbott \n2205 Green Hills Dr.\nAmes\, Iowa 50014 \n515-316-6775
URL:https://calendar.amesart.org/event/blue-quilted-artworks-green-hills-art-gallery/2026-04-16/
LOCATION:Green Hills Art Gallery\, 2205 Green Hills Dr.\, Ames\, IA\, 50014\, United States
ATTACH;FMTTYPE=image/png:https://calendar.amesart.org/wp-content/uploads/2026/04/Blue-image.png
END:VEVENT
BEGIN:VEVENT
DTSTART;TZID=America/Chicago:20260415T080000
DTEND;TZID=America/Chicago:20260415T183000
DTSTAMP:20260421T203421
CREATED:20260412T143740Z
LAST-MODIFIED:20260412T144228Z
UID:10005191-1776240000-1776277800@calendar.amesart.org
SUMMARY:BLUE\, Quilted Artworks - Green Hills Art Gallery
DESCRIPTION:Visit the Green Hills Art Gallery to see BLUE\, Quilted Artworks by Central Iowa Textile Artists. \nAll the pieces are done in a variety of blues. \nThe exhibit will be on display in the Green Hills Art Gallery until Tues.\, May 12. \nHours: Mon. – Fri.\,  8 a.m. to 6:30 p.m.; Sat. –  Sun.\, 10 a.m. to 2 p.m. \nImage: “Cascade” by Carolyn Abbott \n2205 Green Hills Dr.\nAmes\, Iowa 50014 \n515-316-6775
URL:https://calendar.amesart.org/event/blue-quilted-artworks-green-hills-art-gallery/2026-04-15/
LOCATION:Green Hills Art Gallery\, 2205 Green Hills Dr.\, Ames\, IA\, 50014\, United States
ATTACH;FMTTYPE=image/png:https://calendar.amesart.org/wp-content/uploads/2026/04/Blue-image.png
END:VEVENT
BEGIN:VEVENT
DTSTART;TZID=America/Chicago:20260414T080000
DTEND;TZID=America/Chicago:20260414T183000
DTSTAMP:20260421T203421
CREATED:20260412T143740Z
LAST-MODIFIED:20260412T144228Z
UID:10005190-1776153600-1776191400@calendar.amesart.org
SUMMARY:BLUE\, Quilted Artworks - Green Hills Art Gallery
DESCRIPTION:Visit the Green Hills Art Gallery to see BLUE\, Quilted Artworks by Central Iowa Textile Artists. \nAll the pieces are done in a variety of blues. \nThe exhibit will be on display in the Green Hills Art Gallery until Tues.\, May 12. \nHours: Mon. – Fri.\,  8 a.m. to 6:30 p.m.; Sat. –  Sun.\, 10 a.m. to 2 p.m. \nImage: “Cascade” by Carolyn Abbott \n2205 Green Hills Dr.\nAmes\, Iowa 50014 \n515-316-6775
URL:https://calendar.amesart.org/event/blue-quilted-artworks-green-hills-art-gallery/2026-04-14/
LOCATION:Green Hills Art Gallery\, 2205 Green Hills Dr.\, Ames\, IA\, 50014\, United States
ATTACH;FMTTYPE=image/png:https://calendar.amesart.org/wp-content/uploads/2026/04/Blue-image.png
END:VEVENT
BEGIN:VEVENT
DTSTART;TZID=America/Chicago:20260413T080000
DTEND;TZID=America/Chicago:20260413T183000
DTSTAMP:20260421T203421
CREATED:20260412T143740Z
LAST-MODIFIED:20260412T144228Z
UID:10005189-1776067200-1776105000@calendar.amesart.org
SUMMARY:BLUE\, Quilted Artworks - Green Hills Art Gallery
DESCRIPTION:Visit the Green Hills Art Gallery to see BLUE\, Quilted Artworks by Central Iowa Textile Artists. \nAll the pieces are done in a variety of blues. \nThe exhibit will be on display in the Green Hills Art Gallery until Tues.\, May 12. \nHours: Mon. – Fri.\,  8 a.m. to 6:30 p.m.; Sat. –  Sun.\, 10 a.m. to 2 p.m. \nImage: “Cascade” by Carolyn Abbott \n2205 Green Hills Dr.\nAmes\, Iowa 50014 \n515-316-6775
URL:https://calendar.amesart.org/event/blue-quilted-artworks-green-hills-art-gallery/2026-04-13/
LOCATION:Green Hills Art Gallery\, 2205 Green Hills Dr.\, Ames\, IA\, 50014\, United States
ATTACH;FMTTYPE=image/png:https://calendar.amesart.org/wp-content/uploads/2026/04/Blue-image.png
END:VEVENT
BEGIN:VEVENT
DTSTART;TZID=America/Chicago:20250512T080000
DTEND;TZID=America/Chicago:20250512T183000
DTSTAMP:20260421T203421
CREATED:20250506T223438Z
LAST-MODIFIED:20250506T225735Z
UID:10000202-1747036800-1747074600@calendar.amesart.org
SUMMARY:Art Exhibit: Photography by Rachel Deutmeyer – Green Hills Gallery
DESCRIPTION:Photography by Rachel Deutmeyer will be on display at our Green Hills Art Gallery May 10 – June 20.\n\nHours: Mon.-Fri.\,  8 a.m. – 6:30 p.m.\nSat\, Sun\, 10 a.m. – 2 p.m.\n  \nRachel Deutmeyer is an artist and educator living in Iowa. Her photography-based art explores inconsistencies of memory and connections to place beyond tangible perception. Abstractly tied to childhood memories and the significance of motherhood\, Deutmeyer’s work reflects lived experiences as places of joy\, sorrow\, contemplation and peace.\n  \nRaised in eastern Iowa\, Deutmeyer graduated with a B.A. in Graphic Design from Ashford University and an M.F.A. in Integrated Visual Arts from Iowa State University. Her artwork has been regionally and nationally exhibited with a recent solo exhibition of Everything Fades at the Dubuque Museum of Art in Dubuque\, Iowa.
URL:https://calendar.amesart.org/event/art-exhibit-photography-by-rachel-deutmeyer-green-hills-gallery/
LOCATION:Green Hills Art Gallery\, 2205 Green Hills Dr.\, Ames\, IA\, 50014\, United States
END:VEVENT
END:VCALENDAR