BEGIN:VCALENDAR
VERSION:2.0
PRODID:-//Ames Community Arts Council - ECPv6.15.1.1//NONSGML v1.0//EN
CALSCALE:GREGORIAN
METHOD:PUBLISH
X-WR-CALNAME:Ames Community Arts Council
X-ORIGINAL-URL:https://calendar.amesart.org
X-WR-CALDESC:Events for Ames Community Arts Council
REFRESH-INTERVAL;VALUE=DURATION:PT1H
X-Robots-Tag:noindex
X-PUBLISHED-TTL:PT1H
BEGIN:VTIMEZONE
TZID:America/Chicago
BEGIN:DAYLIGHT
TZOFFSETFROM:-0600
TZOFFSETTO:-0500
TZNAME:CDT
DTSTART:20260308T080000
END:DAYLIGHT
BEGIN:STANDARD
TZOFFSETFROM:-0500
TZOFFSETTO:-0600
TZNAME:CST
DTSTART:20261101T070000
END:STANDARD
END:VTIMEZONE
BEGIN:VEVENT
DTSTART;TZID=America/Chicago:20260503T100000
DTEND;TZID=America/Chicago:20260503T140000
DTSTAMP:20260423T065134
CREATED:20260412T150019Z
LAST-MODIFIED:20260412T150019Z
UID:10005216-1777802400-1777816800@calendar.amesart.org
SUMMARY:BLUE\, Quilted Artworks - Green Hills Art Gallery
DESCRIPTION:Visit the Green Hills Art Gallery to see BLUE\, Quilted Artworks by Central Iowa Textile Artists. \nAll the pieces are done in a variety of blues. \nThe exhibit will be on display in the Green Hills Art Gallery until Tues.\, May 12. \nHours: Mon. – Fri.\,  8 a.m. to 6:30 p.m.; Sat. –  Sun.\, 10 a.m. to 2 p.m. \nImage: “Cascade” by Carolyn Abbott \n2205 Green Hills Dr.\nAmes\, Iowa 50014 \n515-316-6775
URL:https://calendar.amesart.org/event/blue-quilted-artworks-green-hills-art-gallery-2/2026-05-03/
LOCATION:Green Hills Art Gallery\, 2205 Green Hills Dr.\, Ames\, IA\, 50014\, United States
ATTACH;FMTTYPE=image/png:https://calendar.amesart.org/wp-content/uploads/2026/04/Blue-image.png
END:VEVENT
BEGIN:VEVENT
DTSTART;TZID=America/Chicago:20260504T080000
DTEND;TZID=America/Chicago:20260504T183000
DTSTAMP:20260423T065134
CREATED:20260412T143740Z
LAST-MODIFIED:20260412T144228Z
UID:10005204-1777881600-1777919400@calendar.amesart.org
SUMMARY:BLUE\, Quilted Artworks - Green Hills Art Gallery
DESCRIPTION:Visit the Green Hills Art Gallery to see BLUE\, Quilted Artworks by Central Iowa Textile Artists. \nAll the pieces are done in a variety of blues. \nThe exhibit will be on display in the Green Hills Art Gallery until Tues.\, May 12. \nHours: Mon. – Fri.\,  8 a.m. to 6:30 p.m.; Sat. –  Sun.\, 10 a.m. to 2 p.m. \nImage: “Cascade” by Carolyn Abbott \n2205 Green Hills Dr.\nAmes\, Iowa 50014 \n515-316-6775
URL:https://calendar.amesart.org/event/blue-quilted-artworks-green-hills-art-gallery/2026-05-04/
LOCATION:Green Hills Art Gallery\, 2205 Green Hills Dr.\, Ames\, IA\, 50014\, United States
ATTACH;FMTTYPE=image/png:https://calendar.amesart.org/wp-content/uploads/2026/04/Blue-image.png
END:VEVENT
BEGIN:VEVENT
DTSTART;TZID=America/Chicago:20260505T080000
DTEND;TZID=America/Chicago:20260505T183000
DTSTAMP:20260423T065134
CREATED:20260412T143740Z
LAST-MODIFIED:20260412T144228Z
UID:10005205-1777968000-1778005800@calendar.amesart.org
SUMMARY:BLUE\, Quilted Artworks - Green Hills Art Gallery
DESCRIPTION:Visit the Green Hills Art Gallery to see BLUE\, Quilted Artworks by Central Iowa Textile Artists. \nAll the pieces are done in a variety of blues. \nThe exhibit will be on display in the Green Hills Art Gallery until Tues.\, May 12. \nHours: Mon. – Fri.\,  8 a.m. to 6:30 p.m.; Sat. –  Sun.\, 10 a.m. to 2 p.m. \nImage: “Cascade” by Carolyn Abbott \n2205 Green Hills Dr.\nAmes\, Iowa 50014 \n515-316-6775
URL:https://calendar.amesart.org/event/blue-quilted-artworks-green-hills-art-gallery/2026-05-05/
LOCATION:Green Hills Art Gallery\, 2205 Green Hills Dr.\, Ames\, IA\, 50014\, United States
ATTACH;FMTTYPE=image/png:https://calendar.amesart.org/wp-content/uploads/2026/04/Blue-image.png
END:VEVENT
BEGIN:VEVENT
DTSTART;TZID=America/Chicago:20260506T080000
DTEND;TZID=America/Chicago:20260506T183000
DTSTAMP:20260423T065134
CREATED:20260412T143740Z
LAST-MODIFIED:20260412T144228Z
UID:10005206-1778054400-1778092200@calendar.amesart.org
SUMMARY:BLUE\, Quilted Artworks - Green Hills Art Gallery
DESCRIPTION:Visit the Green Hills Art Gallery to see BLUE\, Quilted Artworks by Central Iowa Textile Artists. \nAll the pieces are done in a variety of blues. \nThe exhibit will be on display in the Green Hills Art Gallery until Tues.\, May 12. \nHours: Mon. – Fri.\,  8 a.m. to 6:30 p.m.; Sat. –  Sun.\, 10 a.m. to 2 p.m. \nImage: “Cascade” by Carolyn Abbott \n2205 Green Hills Dr.\nAmes\, Iowa 50014 \n515-316-6775
URL:https://calendar.amesart.org/event/blue-quilted-artworks-green-hills-art-gallery/2026-05-06/
LOCATION:Green Hills Art Gallery\, 2205 Green Hills Dr.\, Ames\, IA\, 50014\, United States
ATTACH;FMTTYPE=image/png:https://calendar.amesart.org/wp-content/uploads/2026/04/Blue-image.png
END:VEVENT
BEGIN:VEVENT
DTSTART;TZID=America/Chicago:20260507T080000
DTEND;TZID=America/Chicago:20260507T183000
DTSTAMP:20260423T065134
CREATED:20260412T143740Z
LAST-MODIFIED:20260412T144228Z
UID:10005207-1778140800-1778178600@calendar.amesart.org
SUMMARY:BLUE\, Quilted Artworks - Green Hills Art Gallery
DESCRIPTION:Visit the Green Hills Art Gallery to see BLUE\, Quilted Artworks by Central Iowa Textile Artists. \nAll the pieces are done in a variety of blues. \nThe exhibit will be on display in the Green Hills Art Gallery until Tues.\, May 12. \nHours: Mon. – Fri.\,  8 a.m. to 6:30 p.m.; Sat. –  Sun.\, 10 a.m. to 2 p.m. \nImage: “Cascade” by Carolyn Abbott \n2205 Green Hills Dr.\nAmes\, Iowa 50014 \n515-316-6775
URL:https://calendar.amesart.org/event/blue-quilted-artworks-green-hills-art-gallery/2026-05-07/
LOCATION:Green Hills Art Gallery\, 2205 Green Hills Dr.\, Ames\, IA\, 50014\, United States
ATTACH;FMTTYPE=image/png:https://calendar.amesart.org/wp-content/uploads/2026/04/Blue-image.png
END:VEVENT
BEGIN:VEVENT
DTSTART;TZID=America/Chicago:20260508T080000
DTEND;TZID=America/Chicago:20260508T183000
DTSTAMP:20260423T065134
CREATED:20260412T143740Z
LAST-MODIFIED:20260412T144228Z
UID:10005208-1778227200-1778265000@calendar.amesart.org
SUMMARY:BLUE\, Quilted Artworks - Green Hills Art Gallery
DESCRIPTION:Visit the Green Hills Art Gallery to see BLUE\, Quilted Artworks by Central Iowa Textile Artists. \nAll the pieces are done in a variety of blues. \nThe exhibit will be on display in the Green Hills Art Gallery until Tues.\, May 12. \nHours: Mon. – Fri.\,  8 a.m. to 6:30 p.m.; Sat. –  Sun.\, 10 a.m. to 2 p.m. \nImage: “Cascade” by Carolyn Abbott \n2205 Green Hills Dr.\nAmes\, Iowa 50014 \n515-316-6775
URL:https://calendar.amesart.org/event/blue-quilted-artworks-green-hills-art-gallery/2026-05-08/
LOCATION:Green Hills Art Gallery\, 2205 Green Hills Dr.\, Ames\, IA\, 50014\, United States
ATTACH;FMTTYPE=image/png:https://calendar.amesart.org/wp-content/uploads/2026/04/Blue-image.png
END:VEVENT
BEGIN:VEVENT
DTSTART;TZID=America/Chicago:20260509T100000
DTEND;TZID=America/Chicago:20260509T140000
DTSTAMP:20260423T065134
CREATED:20260412T150019Z
LAST-MODIFIED:20260412T150019Z
UID:10005217-1778320800-1778335200@calendar.amesart.org
SUMMARY:BLUE\, Quilted Artworks - Green Hills Art Gallery
DESCRIPTION:Visit the Green Hills Art Gallery to see BLUE\, Quilted Artworks by Central Iowa Textile Artists. \nAll the pieces are done in a variety of blues. \nThe exhibit will be on display in the Green Hills Art Gallery until Tues.\, May 12. \nHours: Mon. – Fri.\,  8 a.m. to 6:30 p.m.; Sat. –  Sun.\, 10 a.m. to 2 p.m. \nImage: “Cascade” by Carolyn Abbott \n2205 Green Hills Dr.\nAmes\, Iowa 50014 \n515-316-6775
URL:https://calendar.amesart.org/event/blue-quilted-artworks-green-hills-art-gallery-2/2026-05-09/
LOCATION:Green Hills Art Gallery\, 2205 Green Hills Dr.\, Ames\, IA\, 50014\, United States
ATTACH;FMTTYPE=image/png:https://calendar.amesart.org/wp-content/uploads/2026/04/Blue-image.png
END:VEVENT
BEGIN:VEVENT
DTSTART;TZID=America/Chicago:20260510T100000
DTEND;TZID=America/Chicago:20260510T140000
DTSTAMP:20260423T065134
CREATED:20260412T150019Z
LAST-MODIFIED:20260412T150019Z
UID:10005218-1778407200-1778421600@calendar.amesart.org
SUMMARY:BLUE\, Quilted Artworks - Green Hills Art Gallery
DESCRIPTION:Visit the Green Hills Art Gallery to see BLUE\, Quilted Artworks by Central Iowa Textile Artists. \nAll the pieces are done in a variety of blues. \nThe exhibit will be on display in the Green Hills Art Gallery until Tues.\, May 12. \nHours: Mon. – Fri.\,  8 a.m. to 6:30 p.m.; Sat. –  Sun.\, 10 a.m. to 2 p.m. \nImage: “Cascade” by Carolyn Abbott \n2205 Green Hills Dr.\nAmes\, Iowa 50014 \n515-316-6775
URL:https://calendar.amesart.org/event/blue-quilted-artworks-green-hills-art-gallery-2/2026-05-10/
LOCATION:Green Hills Art Gallery\, 2205 Green Hills Dr.\, Ames\, IA\, 50014\, United States
ATTACH;FMTTYPE=image/png:https://calendar.amesart.org/wp-content/uploads/2026/04/Blue-image.png
END:VEVENT
BEGIN:VEVENT
DTSTART;TZID=America/Chicago:20260511T080000
DTEND;TZID=America/Chicago:20260511T183000
DTSTAMP:20260423T065134
CREATED:20260412T143740Z
LAST-MODIFIED:20260412T144228Z
UID:10005209-1778486400-1778524200@calendar.amesart.org
SUMMARY:BLUE\, Quilted Artworks - Green Hills Art Gallery
DESCRIPTION:Visit the Green Hills Art Gallery to see BLUE\, Quilted Artworks by Central Iowa Textile Artists. \nAll the pieces are done in a variety of blues. \nThe exhibit will be on display in the Green Hills Art Gallery until Tues.\, May 12. \nHours: Mon. – Fri.\,  8 a.m. to 6:30 p.m.; Sat. –  Sun.\, 10 a.m. to 2 p.m. \nImage: “Cascade” by Carolyn Abbott \n2205 Green Hills Dr.\nAmes\, Iowa 50014 \n515-316-6775
URL:https://calendar.amesart.org/event/blue-quilted-artworks-green-hills-art-gallery/2026-05-11/
LOCATION:Green Hills Art Gallery\, 2205 Green Hills Dr.\, Ames\, IA\, 50014\, United States
ATTACH;FMTTYPE=image/png:https://calendar.amesart.org/wp-content/uploads/2026/04/Blue-image.png
END:VEVENT
BEGIN:VEVENT
DTSTART;TZID=America/Chicago:20260512T080000
DTEND;TZID=America/Chicago:20260512T183000
DTSTAMP:20260423T065134
CREATED:20260412T143740Z
LAST-MODIFIED:20260412T144228Z
UID:10005210-1778572800-1778610600@calendar.amesart.org
SUMMARY:BLUE\, Quilted Artworks - Green Hills Art Gallery
DESCRIPTION:Visit the Green Hills Art Gallery to see BLUE\, Quilted Artworks by Central Iowa Textile Artists. \nAll the pieces are done in a variety of blues. \nThe exhibit will be on display in the Green Hills Art Gallery until Tues.\, May 12. \nHours: Mon. – Fri.\,  8 a.m. to 6:30 p.m.; Sat. –  Sun.\, 10 a.m. to 2 p.m. \nImage: “Cascade” by Carolyn Abbott \n2205 Green Hills Dr.\nAmes\, Iowa 50014 \n515-316-6775
URL:https://calendar.amesart.org/event/blue-quilted-artworks-green-hills-art-gallery/2026-05-12/
LOCATION:Green Hills Art Gallery\, 2205 Green Hills Dr.\, Ames\, IA\, 50014\, United States
ATTACH;FMTTYPE=image/png:https://calendar.amesart.org/wp-content/uploads/2026/04/Blue-image.png
END:VEVENT
END:VCALENDAR